- using R version 4.3.3 (2024-02-29)
- using platform: x86_64-pc-linux-gnu (64-bit)
- R was compiled by
gcc-13 (Debian 13.2.0-13) 13.2.0
GNU Fortran (Debian 13.2.0-13) 13.2.0
- running under: Debian GNU/Linux trixie/sid
- using session charset: UTF-8
- checking for file ‘bayesplot/DESCRIPTION’ ... OK
- checking extension type ... Package
- this is package ‘bayesplot’ version ‘1.11.1’
- package encoding: UTF-8
- checking package namespace information ... OK
- checking package dependencies ... OK
- checking if this is a source package ... OK
- checking if there is a namespace ... OK
- checking for executable files ... OK
- checking for hidden files and directories ... OK
- checking for portable file names ... OK
- checking for sufficient/correct file permissions ... OK
- checking serialization versions ... OK
- checking whether package ‘bayesplot’ can be installed ... OK
See the install log for details.
- checking package directory ... OK
- checking for future file timestamps ... OK
- checking ‘build’ directory ... OK
- checking DESCRIPTION meta-information ... OK
- checking top-level files ... OK
- checking for left-over files ... OK
- checking index information ... OK
- checking package subdirectories ... OK
- checking R files for non-ASCII characters ... OK
- checking R files for syntax errors ... OK
- checking whether the package can be loaded ... [2s/2s] OK
- checking whether the package can be loaded with stated dependencies ... [1s/2s] OK
- checking whether the package can be unloaded cleanly ... [1s/1s] OK
- checking whether the namespace can be loaded with stated dependencies ... [1s/1s] OK
- checking whether the namespace can be unloaded cleanly ... [2s/2s] OK
- checking loading without being on the library search path ... [2s/2s] OK
- checking startup messages can be suppressed ... [2s/2s] OK
- checking use of S3 registration ... OK
- checking dependencies in R code ... OK
- checking S3 generic/method consistency ... OK
- checking replacement functions ... OK
- checking foreign function calls ... OK
- checking R code for possible problems ... [31s/38s] OK
- checking Rd files ... [1s/1s] OK
- checking Rd metadata ... OK
- checking Rd line widths ... OK
- checking Rd cross-references ... OK
- checking for missing documentation entries ... OK
- checking for code/documentation mismatches ... OK
- checking Rd \usage sections ... OK
- checking Rd contents ... OK
- checking for unstated dependencies in examples ... OK
- checking R/sysdata.rda ... OK
- checking installed files from ‘inst/doc’ ... OK
- checking files in ‘vignettes’ ... OK
- checking examples ... [161s/197s] OK
Examples with CPU (user + system) or elapsed time > 5s
user system elapsed
bayesplot-colors 14.774 0.094 17.880
PPC-intervals 12.767 0.031 14.595
PPD-intervals 11.789 0.072 13.921
MCMC-intervals 11.757 0.088 13.998
MCMC-traces 9.886 0.187 12.532
PPC-test-statistics 9.262 0.119 11.601
bayesplot-helpers 9.153 0.040 11.739
MCMC-diagnostics 6.973 0.125 9.017
bayesplot_theme_get 6.854 0.007 9.107
PPC-discrete 5.974 0.059 7.303
bayesplot-package 5.861 0.024 7.808
MCMC-combos 5.586 0.159 6.224
pp_check 5.567 0.055 7.376
MCMC-distributions 5.272 0.100 6.236
theme_default 5.260 0.008 6.290
tidy-params 5.143 0.008 5.938
PPC-distributions 5.039 0.043 6.276
PPC-errors 4.324 0.015 5.836
- checking for unstated dependencies in ‘tests’ ... OK
- checking tests ... [402s/482s] OK
Running ‘testthat.R’ [402s/481s]
- checking for unstated dependencies in vignettes ... OK
- checking package vignettes in ‘inst/doc’ ... OK
- checking re-building of vignette outputs ... [12s/18s] OK
- checking PDF version of manual ... [11s/14s] OK
- checking HTML version of manual ... [6s/10s] OK
- checking for non-standard things in the check directory ... OK
- DONE
Status: OK