- using R version 4.2.3 (2023-03-15)
- using platform: x86_64-pc-linux-gnu (64-bit)
- using session charset: UTF-8
- checking for file ‘adegraphics/DESCRIPTION’ ... OK
- checking extension type ... Package
- this is package ‘adegraphics’ version ‘1.0-18’
- package encoding: UTF-8
- checking package namespace information ... OK
- checking package dependencies ... OK
- checking if this is a source package ... OK
- checking if there is a namespace ... OK
- checking for executable files ... OK
- checking for hidden files and directories ... OK
- checking for portable file names ... OK
- checking for sufficient/correct file permissions ... OK
- checking serialization versions ... OK
- checking whether package ‘adegraphics’ can be installed ... OK
- checking package directory ... OK
- checking for future file timestamps ... OK
- checking ‘build’ directory ... OK
- checking DESCRIPTION meta-information ... OK
- checking top-level files ... OK
- checking for left-over files ... OK
- checking index information ... OK
- checking package subdirectories ... OK
- checking R files for non-ASCII characters ... OK
- checking R files for syntax errors ... OK
- checking whether the package can be loaded ... OK
- checking whether the package can be loaded with stated dependencies ... OK
- checking whether the package can be unloaded cleanly ... OK
- checking whether the namespace can be loaded with stated dependencies ... OK
- checking whether the namespace can be unloaded cleanly ... OK
- checking loading without being on the library search path ... OK
- checking use of S3 registration ... OK
- checking dependencies in R code ... OK
- checking S3 generic/method consistency ... OK
- checking replacement functions ... OK
- checking foreign function calls ... OK
- checking R code for possible problems ... [63s/74s] OK
- checking Rd files ... [2s/3s] OK
- checking Rd metadata ... OK
- checking Rd line widths ... OK
- checking Rd cross-references ... OK
- checking for missing documentation entries ... OK
- checking for code/documentation mismatches ... OK
- checking Rd \usage sections ... OK
- checking Rd contents ... OK
- checking for unstated dependencies in examples ... OK
- checking installed files from ‘inst/doc’ ... OK
- checking files in ‘vignettes’ ... OK
- checking examples ... [36s/44s] OK
- checking for unstated dependencies in ‘tests’ ... OK
- checking tests ... [160s/193s] OK
Running ‘add.R’ [20s/24s]
Running ‘ade4-functions.R’ [28s/32s]
Running ‘adegraphics.R’ [7s/8s]
Running ‘nbgraph.R’ [4s/6s]
Running ‘panelSpatial.R’ [6s/7s]
Running ‘parameter.R’ [6s/8s]
Running ‘s.arrow.R’ [3s/4s]
Running ‘s.class.R’ [3s/4s]
Running ‘s.corcircle.R’ [2s/2s]
Running ‘s.density.R’ [6s/7s]
Running ‘s.distri.R’ [4s/4s]
Running ‘s.image.R’ [6s/7s]
Running ‘s.label.R’ [3s/4s]
Running ‘s.logo.R’ [2s/3s]
Running ‘s.match.R’ [2s/3s]
Running ‘s.traject.R’ [2s/3s]
Running ‘s.value.R’ [5s/6s]
Running ‘s1d.barchart.R’ [3s/4s]
Running ‘s1d.boxplot.R’ [4s/6s]
Running ‘s1d.class.R’ [3s/3s]
Running ‘s1d.density.R’ [4s/5s]
Running ‘s1d.distri.R’ [3s/5s]
Running ‘s1d.gauss.R’ [4s/5s]
Running ‘s1d.hist.R’ [12s/14s]
Running ‘s1d.label.R’ [2s/3s]
Running ‘s1d.match.R’ [2s/2s]
Running ‘table.image.R’ [2s/3s]
Running ‘table.value.R’ [4s/5s]
Running ‘triangle.R’ [6s/7s]
- checking for unstated dependencies in vignettes ... OK
- checking package vignettes in ‘inst/doc’ ... OK
- checking re-building of vignette outputs ... [39s/44s] OK
- checking PDF version of manual ... OK
- checking HTML version of manual ... OK
- checking for non-standard things in the check directory ... OK
- DONE
Status: OK