- using R version 4.4.0 (2024-04-24)
- using platform: x86_64-pc-linux-gnu
- R was compiled by
gcc-13 (Debian 13.2.0-25) 13.2.0
GNU Fortran (Debian 13.2.0-25) 13.2.0
- running under: Debian GNU/Linux trixie/sid
- using session charset: UTF-8
- checking for file ‘UniversalCVI/DESCRIPTION’ ... OK
- checking extension type ... Package
- this is package ‘UniversalCVI’ version ‘1.1.2’
- package encoding: UTF-8
- checking package namespace information ... OK
- checking package dependencies ... OK
- checking if this is a source package ... OK
- checking if there is a namespace ... OK
- checking for executable files ... OK
- checking for hidden files and directories ... OK
- checking for portable file names ... OK
- checking for sufficient/correct file permissions ... OK
- checking serialization versions ... OK
- checking whether package ‘UniversalCVI’ can be installed ... OK
See the install log for details.
- checking package directory ... OK
- checking for future file timestamps ... OK
- checking DESCRIPTION meta-information ... OK
- checking top-level files ... OK
- checking for left-over files ... OK
- checking index information ... OK
- checking package subdirectories ... OK
- checking code files for non-ASCII characters ... OK
- checking R files for syntax errors ... OK
- checking whether the package can be loaded ... [0s/1s] OK
- checking whether the package can be loaded with stated dependencies ... [0s/1s] OK
- checking whether the package can be unloaded cleanly ... [0s/1s] OK
- checking whether the namespace can be loaded with stated dependencies ... [0s/1s] OK
- checking whether the namespace can be unloaded cleanly ... [0s/0s] OK
- checking loading without being on the library search path ... [0s/1s] OK
- checking use of S3 registration ... OK
- checking dependencies in R code ... OK
- checking S3 generic/method consistency ... OK
- checking replacement functions ... OK
- checking foreign function calls ... OK
- checking R code for possible problems ... [18s/24s] OK
- checking Rd files ... [1s/1s] OK
- checking Rd metadata ... OK
- checking Rd line widths ... OK
- checking Rd cross-references ... OK
- checking for missing documentation entries ... OK
- checking for code/documentation mismatches ... OK
- checking Rd \usage sections ... OK
- checking Rd contents ... OK
- checking for unstated dependencies in examples ... OK
- checking contents of ‘data’ directory ... OK
- checking data for non-ASCII characters ... [0s/1s] OK
- checking LazyData ... OK
- checking data for ASCII and uncompressed saves ... OK
- checking examples ... [151s/182s] OK
Examples with CPU (user + system) or elapsed time > 5s
user system elapsed
XB.IDX 12.299 0.008 13.921
HF.IDX 12.281 0.012 15.204
KWON.IDX 12.277 0.007 16.729
KWON2.IDX 12.283 0.000 16.307
PBM.IDX 12.261 0.003 14.192
WL.IDX 12.260 0.000 13.821
TANG.IDX 12.249 0.000 14.045
KPBM.IDX 12.212 0.000 15.277
GC.IDX 11.277 0.012 13.107
CCV.IDX 8.255 0.010 10.168
plot_idx 7.892 0.008 8.829
FzzyCVIs 7.604 0.004 9.408
WP.IDX 6.951 0.004 7.681
- checking PDF version of manual ... [8s/11s] OK
- checking HTML version of manual ... [4s/5s] OK
- checking for non-standard things in the check directory ... OK
- DONE
Status: OK