- using R version 4.2.1 (2022-06-23)
- using platform: x86_64-pc-linux-gnu (64-bit)
- using session charset: UTF-8
- checking for file ‘TRADER/DESCRIPTION’ ... OK
- checking extension type ... Package
- this is package ‘TRADER’ version ‘1.2-3’
- checking package namespace information ... OK
- checking package dependencies ... OK
- checking if this is a source package ... OK
- checking if there is a namespace ... OK
- checking for executable files ... OK
- checking for hidden files and directories ... OK
- checking for portable file names ... OK
- checking for sufficient/correct file permissions ... OK
- checking serialization versions ... OK
- checking whether package ‘TRADER’ can be installed ... OK
- checking package directory ... OK
- checking for future file timestamps ... OK
- checking DESCRIPTION meta-information ... OK
- checking top-level files ... OK
- checking for left-over files ... OK
- checking index information ... OK
- checking package subdirectories ... OK
- checking R files for non-ASCII characters ... OK
- checking R files for syntax errors ... OK
- checking whether the package can be loaded ... OK
- checking whether the package can be loaded with stated dependencies ... OK
- checking whether the package can be unloaded cleanly ... OK
- checking whether the namespace can be loaded with stated dependencies ... OK
- checking whether the namespace can be unloaded cleanly ... OK
- checking loading without being on the library search path ... OK
- checking use of S3 registration ... OK
- checking dependencies in R code ... OK
- checking S3 generic/method consistency ... OK
- checking replacement functions ... OK
- checking foreign function calls ... OK
- checking R code for possible problems ... [21s/27s] OK
- checking Rd files ... [1s/1s] OK
- checking Rd metadata ... OK
- checking Rd line widths ... OK
- checking Rd cross-references ... OK
- checking for missing documentation entries ... OK
- checking for code/documentation mismatches ... OK
- checking Rd \usage sections ... OK
- checking Rd contents ... OK
- checking for unstated dependencies in examples ... OK
- checking contents of ‘data’ directory ... OK
- checking data for non-ASCII characters ... OK
- checking data for ASCII and uncompressed saves ... OK
- checking examples ... [52s/61s] OK
Examples with CPU (user + system) or elapsed time > 5s
user system elapsed
TRADER-package 13.514 0.082 15.919
doAll 6.653 0.048 8.189
- checking PDF version of manual ... OK
- checking for non-standard things in the check directory ... NOTE
Found the following files/directories:
‘ai_000012.jpeg’ ‘ai_000012.pdf’ ‘ai_000017.jpeg’ ‘ai_000017.pdf’
‘ai_000020.jpeg’ ‘ai_000020.pdf’ ‘ai_000021.jpeg’ ‘ai_000021.pdf’
‘ai_000031.jpeg’ ‘ai_000031.pdf’ ‘ai_000033.jpeg’ ‘ai_000033.pdf’
‘ai_000035.jpeg’ ‘ai_000035.pdf’ ‘ai_000039.jpeg’ ‘ai_000039.pdf’
‘ai_000046.jpeg’ ‘ai_000046.pdf’ ‘ai_000049.jpeg’ ‘ai_000049.pdf’
‘ai_000066.jpeg’ ‘ai_000066.pdf’ ‘ai_000070.jpeg’ ‘ai_000070.pdf’
‘ai_000073.jpeg’ ‘ai_000073.pdf’ ‘ai_000091.jpeg’ ‘ai_000091.pdf’
‘ai_000096.jpeg’ ‘ai_000096.pdf’ ‘ai_change.csv’
‘ai_releases_all.csv’ ‘ai_releases_values_total.csv’
‘ai_releases_years_total.csv’ ‘all_000012.pdf’ ‘all_000017.pdf’
‘all_000020.pdf’ ‘all_000021.pdf’ ‘all_000031.pdf’ ‘all_000033.pdf’
‘all_000035.pdf’ ‘all_000039.pdf’ ‘all_000046.pdf’ ‘all_000049.pdf’
‘all_000066.pdf’ ‘all_000070.pdf’ ‘all_000073.pdf’ ‘all_000091.pdf’
‘all_000096.pdf’ ‘bl_000012.pdf’ ‘bl_000017.pdf’ ‘bl_000020.pdf’
‘bl_000021.pdf’ ‘bl_000031.pdf’ ‘bl_000033.pdf’ ‘bl_000035.pdf’
‘bl_000039.pdf’ ‘bl_000046.pdf’ ‘bl_000049.pdf’ ‘bl_000066.pdf’
‘bl_000070.pdf’ ‘bl_000073.pdf’ ‘bl_000091.pdf’ ‘bl_000096.pdf’
‘bl_change.csv’ ‘bl_releases_Only_Major.csv’
‘bl_releases_Only_Moderate.csv’ ‘bl_releases_all.csv’
‘bl_releases_values_total.csv’ ‘bl_releases_years_total.csv’
‘bo_boundaries.pdf’ ‘bo_boundary.pdf’ ‘boundaries.csv’
‘firstyear.csv’ ‘fy_firstyears.csv’ ‘fyfirstyears.pdf’
‘ga_000012.pdf’ ‘ga_000017.pdf’ ‘ga_000020.pdf’ ‘ga_000021.pdf’
‘ga_000031.pdf’ ‘ga_000033.pdf’ ‘ga_000035.pdf’ ‘ga_000039.pdf’
‘ga_000046.pdf’ ‘ga_000049.pdf’ ‘ga_000066.pdf’ ‘ga_000070.pdf’
‘ga_000073.pdf’ ‘ga_000091.pdf’ ‘ga_000096.pdf’ ‘ga_change.csv’
‘ga_releases_Only_Major.csv’ ‘ga_releases_Only_Moderate.csv’
‘ga_releases_all.csv’ ‘ga_releases_values_total.csv’
‘ga_releases_years_total.csv’ ‘growth_tree000012.pdf’
‘growth_tree000017.pdf’ ‘growth_tree000020.pdf’
‘growth_tree000021.pdf’ ‘growth_tree000031.pdf’
‘growth_tree000033.pdf’ ‘growth_tree000035.pdf’
‘growth_tree000039.pdf’ ‘growth_tree000046.pdf’
‘growth_tree000049.pdf’ ‘growth_tree000066.pdf’
‘growth_tree000070.pdf’ ‘growth_tree000073.pdf’
‘growth_tree000091.pdf’ ‘growth_tree000096.pdf’ ‘relai_inyears.pdf’
‘relbl_inyears.pdf’ ‘relga_inyears.pdf’ ‘relsp_inyears.pdf’
‘sp_000012.pdf’ ‘sp_000017.pdf’ ‘sp_000020.pdf’ ‘sp_000021.pdf’
‘sp_000031.pdf’ ‘sp_000033.pdf’ ‘sp_000035.pdf’ ‘sp_000039.pdf’
‘sp_000046.pdf’ ‘sp_000049.pdf’ ‘sp_000066.pdf’ ‘sp_000070.pdf’
‘sp_000073.pdf’ ‘sp_000091.pdf’ ‘sp_000096.pdf’ ‘sp_change.csv’
‘sp_releases_Only_Major.csv’ ‘sp_releases_Only_Moderate.csv’
‘sp_releases_all.csv’ ‘sp_releases_values_total.csv’
‘sp_releases_years_total.csv’
- DONE
Status: 1 NOTE