- using R version 3.6.2 (2019-12-12)
- using platform: x86_64-pc-linux-gnu (64-bit)
- using session charset: UTF-8
- checking for file ‘RVowpalWabbit/DESCRIPTION’ ... OK
- this is package ‘RVowpalWabbit’ version ‘0.0.13’
- checking package namespace information ... OK
- checking package dependencies ... OK
- checking if this is a source package ... OK
- checking if there is a namespace ... OK
- checking for executable files ... OK
- checking for hidden files and directories ... OK
- checking for portable file names ... OK
- checking for sufficient/correct file permissions ... OK
- checking serialization versions ... OK
- checking whether package ‘RVowpalWabbit’ can be installed ... NOTE
Found the following notes/warnings:
Non-staged installation was used
See ‘/home/hornik/tmp/R.check/r-release-gcc/Work/PKGS/RVowpalWabbit.Rcheck/00install.out’ for details.
- checking package directory ... OK
- checking for future file timestamps ... OK
- checking DESCRIPTION meta-information ... OK
- checking top-level files ... NOTE
Found a ‘configure.in’ file: ‘configure.ac’ has long been preferred.
Output from running autoreconf:
aclocal: warning: autoconf input should be named 'configure.ac', not 'configure.in'
configure.in:22: warning: underquoted definition of AC_PROG_R
configure.in:22: run info Automake 'Extending aclocal'
configure.in:22: or see https://www.gnu.org/software/automake/manual/automake.html#Extending-aclocal
configure.in:86: warning: the serial number must appear before any macro definition
configure.in:362: warning: the serial number must appear before any macro definition
- checking for left-over files ... OK
- checking index information ... OK
- checking package subdirectories ... OK
- checking R files for non-ASCII characters ... OK
- checking R files for syntax errors ... OK
- checking whether the package can be loaded ... OK
- checking whether the package can be loaded with stated dependencies ... OK
- checking whether the package can be unloaded cleanly ... OK
- checking whether the namespace can be loaded with stated dependencies ... OK
- checking whether the namespace can be unloaded cleanly ... OK
- checking loading without being on the library search path ... OK
- checking use of S3 registration ... OK
- checking dependencies in R code ... OK
- checking S3 generic/method consistency ... OK
- checking replacement functions ... OK
- checking foreign function calls ... OK
- checking R code for possible problems ... [3s/4s] OK
- checking Rd files ... OK
- checking Rd metadata ... OK
- checking Rd line widths ... OK
- checking Rd cross-references ... OK
- checking for missing documentation entries ... OK
- checking for code/documentation mismatches ... OK
- checking Rd \usage sections ... OK
- checking Rd contents ... OK
- checking for unstated dependencies in examples ... OK
- checking line endings in shell scripts ... OK
- checking line endings in C/C++/Fortran sources/headers ... OK
- checking line endings in Makefiles ... OK
- checking compilation flags in Makevars ... OK
- checking for GNU extensions in Makefiles ... OK
- checking for portable use of $(BLAS_LIBS) and $(LAPACK_LIBS) ... OK
- checking use of SHLIB_OPENMP_*FLAGS in Makefiles ... OK
- checking pragmas in C/C++ headers and code ... OK
- checking compilation flags used ... OK
- checking compiled code ... OK
- checking examples ... [1s/3s] OK
- checking for unstated dependencies in ‘tests’ ... OK
- checking tests ... [8s/14s] OK
Running ‘test1.r’ [0s/1s]
Running ‘test2.r’ [0s/1s]
Running ‘test5.r’ [2s/3s]
Running ‘test6.r’ [2s/4s]
Running ‘test7.r’ [1s/3s]
Running ‘test8.r’ [2s/3s]
- checking PDF version of manual ... OK
- DONE
Status: 2 NOTEs