* using log directory ‘/home/hornik/tmp/R.check/r-release-gcc/Work/PKGS/RKEEL.Rcheck’ * using R version 4.5.1 (2025-06-13) * using platform: x86_64-pc-linux-gnu * R was compiled by gcc-14 (Debian 14.2.0-19) 14.2.0 GNU Fortran (Debian 14.2.0-19) 14.2.0 * running under: Debian GNU/Linux 13 (trixie) * using session charset: UTF-8 * checking for file ‘RKEEL/DESCRIPTION’ ... OK * checking extension type ... Package * this is package ‘RKEEL’ version ‘1.3.4’ * checking package namespace information ... OK * checking package dependencies ... OK * checking if this is a source package ... OK * checking if there is a namespace ... OK * checking for executable files ... OK * checking for hidden files and directories ... OK * checking for portable file names ... OK * checking for sufficient/correct file permissions ... OK * checking serialization versions ... OK * checking whether package ‘RKEEL’ can be installed ... OK See 'https://www.r-project.org/nosvn/R.check/r-release-linux-x86_64/RKEEL-00install.html' for details. * checking package directory ... OK * checking for future file timestamps ... OK * checking DESCRIPTION meta-information ... OK * checking top-level files ... OK * checking for left-over files ... OK * checking index information ... OK * checking package subdirectories ... OK * checking code files for non-ASCII characters ... OK * checking R files for syntax errors ... OK * checking whether the package can be loaded ... [1s/1s] OK * checking whether the package can be loaded with stated dependencies ... [1s/1s] OK * checking whether the package can be unloaded cleanly ... [1s/1s] OK * checking whether the namespace can be loaded with stated dependencies ... [1s/1s] OK * checking whether the namespace can be unloaded cleanly ... [1s/1s] OK * checking loading without being on the library search path ... [1s/1s] OK * checking whether startup messages can be suppressed ... [1s/1s] OK * checking use of S3 registration ... OK * checking dependencies in R code ... OK * checking S3 generic/method consistency ... OK * checking replacement functions ... OK * checking foreign function calls ... OK * checking R code for possible problems ... [13s/16s] OK * checking Rd files ... [1s/1s] OK * checking Rd metadata ... OK * checking Rd line widths ... OK * checking Rd cross-references ... OK * checking for missing documentation entries ... OK * checking for code/documentation mismatches ... OK * checking Rd \usage sections ... OK * checking Rd contents ... OK * checking for unstated dependencies in examples ... OK * checking examples ... [277s/329s] OK Examples with CPU (user + system) or elapsed time > 5s user system elapsed ANR-F 7.953 0.374 9.184 Alcalaetal-A 6.175 0.246 7.698 ABB-IEP-FS 5.881 0.291 7.323 Nominal2Binary-TR 5.880 0.157 6.260 CART-R 5.456 0.424 6.769 GANN-C 5.499 0.115 6.985 SSGA-Integer-knn-FS 5.070 0.190 6.414 UniformWidth-D 4.887 0.181 6.408 ZScore-TR 4.933 0.104 5.914 CleanAttributes-TR 4.845 0.160 5.915 UniformFrequency-D 4.803 0.166 5.788 Relief-FS 4.752 0.155 5.115 DecimalScaling-TR 4.729 0.176 5.896 AllPosible-MV 4.688 0.203 5.613 ID3-D 4.681 0.210 6.470 Bayesian-D 4.701 0.178 5.162 Eclat-A 4.538 0.294 5.860 MinMax-TR 4.728 0.101 6.256 Proportional-D 4.646 0.182 5.147 RISE-C 4.693 0.135 5.360 FPgrowth-A 4.567 0.243 5.838 KMeans-MV 4.626 0.151 6.363 FuzzyApriori-A 4.585 0.154 6.259 Ignore-MV 4.598 0.121 6.020 MostCommon-MV 4.590 0.099 5.214 ART-C 4.498 0.159 5.256 KNN-MV 4.536 0.116 5.331 ID3-C 4.488 0.141 5.830 Apriori-A 4.328 0.230 5.424 LVF-IEP-FS 4.320 0.184 5.620 GeneticFuzzyApriori-A 4.304 0.153 5.063 SFS-IEP-FS 4.233 0.156 5.420 GeneticFuzzyAprioriDC-A 4.141 0.244 5.334 runCV 0.441 0.012 7.438 runSequential 0.116 0.000 5.783 * checking PDF version of manual ... [10s/13s] OK * checking HTML version of manual ... [6s/11s] OK * checking for non-standard things in the check directory ... OK * DONE Status: OK