- using R version 4.4.0 (2024-04-24)
- using platform: x86_64-pc-linux-gnu
- R was compiled by
gcc-13 (Debian 13.2.0-23) 13.2.0
GNU Fortran (Debian 13.2.0-23) 13.2.0
- running under: Debian GNU/Linux trixie/sid
- using session charset: UTF-8
- checking for file ‘MoLE/DESCRIPTION’ ... OK
- checking extension type ... Package
- this is package ‘MoLE’ version ‘1.0.1’
- checking package namespace information ... OK
- checking package dependencies ... OK
- checking if this is a source package ... OK
- checking if there is a namespace ... OK
- checking for executable files ... OK
- checking for hidden files and directories ... OK
- checking for portable file names ... OK
- checking for sufficient/correct file permissions ... OK
- checking serialization versions ... OK
- checking whether package ‘MoLE’ can be installed ... OK
See the install log for details.
- checking package directory ... OK
- checking for future file timestamps ... OK
- checking DESCRIPTION meta-information ... OK
- checking top-level files ... OK
- checking for left-over files ... OK
- checking index information ... OK
- checking package subdirectories ... NOTE
Problems with news in ‘NEWS.md’:
No news entries found.
- checking code files for non-ASCII characters ... OK
- checking R files for syntax errors ... OK
- checking whether the package can be loaded ... [0s/1s] OK
- checking whether the package can be loaded with stated dependencies ... [0s/0s] OK
- checking whether the package can be unloaded cleanly ... [0s/0s] OK
- checking whether the namespace can be loaded with stated dependencies ... [0s/0s] OK
- checking whether the namespace can be unloaded cleanly ... [0s/0s] OK
- checking loading without being on the library search path ... [0s/0s] OK
- checking use of S3 registration ... OK
- checking dependencies in R code ... OK
- checking S3 generic/method consistency ... OK
- checking replacement functions ... OK
- checking foreign function calls ... OK
- checking R code for possible problems ... [41s/52s] OK
- checking Rd files ... [1s/1s] NOTE
checkRd: (-1) CHECKSUCCESS.Rd:44: Escaped LaTeX specials: \&
- checking Rd metadata ... OK
- checking Rd line widths ... OK
- checking Rd cross-references ... OK
- checking for missing documentation entries ... OK
- checking for code/documentation mismatches ... OK
- checking Rd \usage sections ... OK
- checking Rd contents ... OK
- checking for unstated dependencies in examples ... OK
- checking contents of ‘data’ directory ... OK
- checking data for non-ASCII characters ... [0s/0s] OK
- checking LazyData ... OK
- checking data for ASCII and uncompressed saves ... OK
- checking examples ... [141s/180s] OK
Examples with CPU (user + system) or elapsed time > 5s
user system elapsed
TURN 6.123 0.000 7.008
SUCCESS 5.736 0.008 6.586
TYPEMATCH 5.703 0.004 6.203
VERBFINAL 5.564 0.004 7.689
TOPICFIRST 5.555 0.000 6.007
TOPICCOPY 5.374 0.004 5.982
INTERPRET 5.081 0.000 7.038
ANALYZE 5.080 0.000 7.197
VERBMORPHOLOGY 5.025 0.000 7.298
EROSION 5.024 0.000 6.291
GROUP 5.021 0.000 7.562
PROTOINTERPRETATION 5.006 0.000 5.922
CHECKSUCCESS 4.960 0.006 6.778
INTERPRET.INT 4.953 0.000 6.609
SELECTACTOR 4.933 0.004 6.751
NOUNMORPHOLOGY 4.928 0.004 6.173
REFCHECK 4.891 0.000 5.528
GENERALIZE 4.876 0.000 7.915
AGENTFIRST 4.873 0.000 5.966
PRODUCE 4.845 0.000 5.623
FREQUPDATE 4.831 0.002 6.181
WORDORDER 4.825 0.000 5.542
FIRSTINFIRSTOUT 4.788 0.000 6.200
PROPOSITION 4.760 0.004 5.810
REDUCE 4.751 0.000 5.928
PREPARE 4.739 0.000 6.639
DECOMPOSE 4.702 0.012 6.181
- checking PDF version of manual ... [7s/9s] OK
- checking HTML version of manual ... [2s/3s] OK
- checking for non-standard things in the check directory ... OK
- DONE
Status: 2 NOTEs