- using R version 4.2.1 (2022-06-23)
- using platform: x86_64-pc-linux-gnu (64-bit)
- using session charset: UTF-8
- checking for file ‘LatticeKrig/DESCRIPTION’ ... OK
- this is package ‘LatticeKrig’ version ‘8.4’
- checking package namespace information ... OK
- checking package dependencies ... OK
- checking if this is a source package ... OK
- checking if there is a namespace ... OK
- checking for executable files ... OK
- checking for hidden files and directories ... OK
- checking for portable file names ... OK
- checking for sufficient/correct file permissions ... OK
- checking whether package ‘LatticeKrig’ can be installed ... OK
- checking package directory ... OK
- checking for future file timestamps ... OK
- checking DESCRIPTION meta-information ... OK
- checking top-level files ... OK
- checking for left-over files ... OK
- checking index information ... OK
- checking package subdirectories ... OK
- checking R files for non-ASCII characters ... OK
- checking R files for syntax errors ... OK
- checking whether the package can be loaded ... OK
- checking whether the package can be loaded with stated dependencies ... OK
- checking whether the package can be unloaded cleanly ... OK
- checking whether the namespace can be loaded with stated dependencies ... OK
- checking whether the namespace can be unloaded cleanly ... OK
- checking loading without being on the library search path ... OK
- checking use of S3 registration ... OK
- checking dependencies in R code ... OK
- checking S3 generic/method consistency ... OK
- checking replacement functions ... OK
- checking foreign function calls ... OK
- checking R code for possible problems ... [28s/35s] OK
- checking Rd files ... [1s/2s] OK
- checking Rd metadata ... OK
- checking Rd line widths ... OK
- checking Rd cross-references ... OK
- checking for missing documentation entries ... OK
- checking for code/documentation mismatches ... OK
- checking Rd \usage sections ... OK
- checking Rd contents ... OK
- checking for unstated dependencies in examples ... OK
- checking contents of ‘data’ directory ... OK
- checking data for non-ASCII characters ... OK
- checking data for ASCII and uncompressed saves ... OK
- checking line endings in C/C++/Fortran sources/headers ... OK
- checking pragmas in C/C++ headers and code ... OK
- checking compilation flags used ... OK
- checking compiled code ... OK
- checking examples ... [50s/60s] OK
Examples with CPU (user + system) or elapsed time > 5s
user system elapsed
LatticeKrig 10.855 0.012 13.531
LKrig.MLE 8.022 0.053 9.444
LKrig.basis 5.828 0.036 7.284
nonstationaryModels 5.718 0.028 6.863
LKrig 5.565 0.066 6.607
- checking for unstated dependencies in ‘tests’ ... OK
- checking tests ... [287s/333s] OK
Running ‘LKrig.FindNorm.test.R’ [8s/9s]
Comparing ‘LKrig.FindNorm.test.Rout’ to ‘LKrig.FindNorm.test.Rout.save’ ... OK
Running ‘LKrig.LKCylinder.test.R’ [3s/4s]
Comparing ‘LKrig.LKCylinder.test.Rout’ to ‘LKrig.LKCylinder.test.Rout.save’ ... OK
Running ‘LKrig.LKSphere.test.R’ [16s/19s]
Running ‘LKrig.basis.test.R’ [4s/5s]
Comparing ‘LKrig.basis.test.Rout’ to ‘LKrig.basis.test.Rout.save’ ... OK
Running ‘LKrig.lnPLike.test.R’ [32s/37s]
Running ‘LKrig.nullspace.test.R’ [7s/8s]
Comparing ‘LKrig.nullspace.test.Rout’ to ‘LKrig.nullspace.test.Rout.save’ ... OK
Running ‘LKrig.precision.test.R’ [14s/15s]
Comparing ‘LKrig.precision.test.Rout’ to ‘LKrig.precision.test.Rout.save’ ... OK
Running ‘LKrig.se.test.R’ [38s/45s]
Comparing ‘LKrig.se.test.Rout’ to ‘LKrig.se.test.Rout.save’ ... OK
Running ‘LKrig.test.3D.R’ [19s/23s]
Comparing ‘LKrig.test.3D.Rout’ to ‘LKrig.test.3D.Rout.save’ ... OK
Running ‘LKrig.test.Nonstationary.R’ [5s/7s]
Running ‘LKrig.test.R’ [40s/47s]
Comparing ‘LKrig.test.Rout’ to ‘LKrig.test.Rout.save’ ... OK
Running ‘LKrig.test.inverse.R’ [5s/6s]
Comparing ‘LKrig.test.inverse.Rout’ to ‘LKrig.test.inverse.Rout.save’ ... OK
Running ‘LKrig.testFindAwght.R’ [92s/103s]
Comparing ‘LKrig.testFindAwght.Rout’ to ‘LKrig.testFindAwght.Rout.save’ ... OK
Running ‘LKrigMarginalVariance.test.R’ [4s/4s]
Comparing ‘LKrigMarginalVariance.test.Rout’ to ‘LKrigMarginalVariance.test.Rout.save’ ... OK
- checking PDF version of manual ... OK
- checking HTML version of manual ... OK
- checking for non-standard things in the check directory ... OK
- DONE
Status: OK