- using R version 4.3.3 (2024-02-29)
- using platform: x86_64-pc-linux-gnu (64-bit)
- R was compiled by
gcc-13 (Debian 13.2.0-13) 13.2.0
GNU Fortran (Debian 13.2.0-13) 13.2.0
- running under: Debian GNU/Linux trixie/sid
- using session charset: UTF-8
- checking for file ‘ENMTools/DESCRIPTION’ ... OK
- checking extension type ... Package
- this is package ‘ENMTools’ version ‘1.1.2’
- package encoding: UTF-8
- checking package namespace information ... OK
- checking package dependencies ... OK
- checking if this is a source package ... OK
- checking if there is a namespace ... OK
- checking for executable files ... OK
- checking for hidden files and directories ... OK
- checking for portable file names ... OK
- checking for sufficient/correct file permissions ... OK
- checking serialization versions ... OK
- checking whether package ‘ENMTools’ can be installed ... OK
See the install log for details.
- checking package directory ... OK
- checking for future file timestamps ... OK
- checking DESCRIPTION meta-information ... OK
- checking top-level files ... OK
- checking for left-over files ... OK
- checking index information ... OK
- checking package subdirectories ... OK
- checking R files for non-ASCII characters ... OK
- checking R files for syntax errors ... OK
- checking whether the package can be loaded ... [15s/19s] OK
- checking whether the package can be loaded with stated dependencies ... [16s/20s] OK
- checking whether the package can be unloaded cleanly ... [16s/20s] OK
- checking whether the namespace can be loaded with stated dependencies ... [15s/19s] OK
- checking whether the namespace can be unloaded cleanly ... [15s/18s] OK
- checking loading without being on the library search path ... [15s/17s] OK
- checking startup messages can be suppressed ... [16s/19s] OK
- checking use of S3 registration ... OK
- checking dependencies in R code ... OK
- checking S3 generic/method consistency ... OK
- checking replacement functions ... OK
- checking foreign function calls ... OK
- checking R code for possible problems ... [117s/144s] OK
- checking Rd files ... [1s/1s] OK
- checking Rd metadata ... OK
- checking Rd line widths ... OK
- checking Rd cross-references ... OK
- checking for missing documentation entries ... OK
- checking for code/documentation mismatches ... OK
- checking Rd \usage sections ... OK
- checking Rd contents ... OK
- checking for unstated dependencies in examples ... OK
- checking R/sysdata.rda ... OK
- checking examples ... [64s/74s] OK
Examples with CPU (user + system) or elapsed time > 5s
user system elapsed
raster.overlap 9.586 0.072 12.081
check.env 7.351 0.278 8.231
visualize.enm 7.031 0.173 8.243
marginal.plots 5.873 0.099 7.015
enmtools.glm 5.758 0.209 7.928
- checking for unstated dependencies in ‘tests’ ... OK
- checking tests ... [145s/170s] OK
Running ‘testthat.R’ [144s/169s]
- checking PDF version of manual ... [8s/10s] OK
- checking HTML version of manual ... [2s/5s] OK
- checking for non-standard things in the check directory ... OK
- DONE
Status: OK