- using R version 4.5.2 (2025-10-31)
- using platform: x86_64-pc-linux-gnu
- R was compiled by
gcc-14 (Debian 14.3.0-10) 14.3.0
GNU Fortran (Debian 14.3.0-10) 14.3.0
- running under: Debian GNU/Linux forky/sid
- using session charset: UTF-8
- checking for file ‘DImodelsVis/DESCRIPTION’ ... OK
- this is package ‘DImodelsVis’ version ‘1.0.4’
- package encoding: UTF-8
- checking package namespace information ... OK
- checking package dependencies ... OK
- checking if this is a source package ... OK
- checking if there is a namespace ... OK
- checking for executable files ... OK
- checking for hidden files and directories ... OK
- checking for portable file names ... OK
- checking for sufficient/correct file permissions ... OK
- checking serialization versions ... OK
- checking whether package ‘DImodelsVis’ can be installed ... OK
See the install log for details.
- checking package directory ... OK
- checking for future file timestamps ... OK
- checking ‘build’ directory ... OK
- checking DESCRIPTION meta-information ... OK
- checking top-level files ... OK
- checking for left-over files ... OK
- checking index information ... OK
- checking package subdirectories ... OK
- checking code files for non-ASCII characters ... OK
- checking R files for syntax errors ... OK
- checking whether the package can be loaded ... [4s/5s] OK
- checking whether the package can be loaded with stated dependencies ... [4s/4s] OK
- checking whether the package can be unloaded cleanly ... [4s/4s] OK
- checking whether the namespace can be loaded with stated dependencies ... [3s/4s] OK
- checking whether the namespace can be unloaded cleanly ... [4s/5s] OK
- checking loading without being on the library search path ... [4s/5s] OK
- checking use of S3 registration ... OK
- checking dependencies in R code ... OK
- checking S3 generic/method consistency ... OK
- checking replacement functions ... OK
- checking foreign function calls ... OK
- checking R code for possible problems ... [29s/37s] OK
- checking Rd files ... [1s/1s] OK
- checking Rd metadata ... OK
- checking Rd line widths ... OK
- checking Rd cross-references ... OK
- checking for missing documentation entries ... OK
- checking for code/documentation mismatches ... OK
- checking Rd \usage sections ... OK
- checking Rd contents ... OK
- checking for unstated dependencies in examples ... OK
- checking installed files from ‘inst/doc’ ... OK
- checking files in ‘vignettes’ ... OK
- checking examples ... [120s/143s] OK
Examples with CPU (user + system) or elapsed time > 5s
user system elapsed
model_diagnostics_plot 9.596 0.390 11.548
model_diagnostics 7.798 0.316 10.094
simplex_path 7.940 0.118 9.504
visualise_effects 7.100 0.061 8.633
model_selection 6.202 0.264 7.290
gradient_change_plot 6.291 0.114 7.228
simplex_path_plot 6.252 0.035 7.126
simplex_path_data 5.645 0.145 7.413
prediction_contributions 5.630 0.096 7.367
ternary_data 3.919 1.267 5.951
DImodelsVis-package 4.615 0.163 5.164
gradient_change 4.574 0.028 5.913
visualise_effects_plot 4.254 0.004 5.601
conditional_ternary 3.920 0.150 5.224
- checking for unstated dependencies in ‘tests’ ... OK
- checking tests ... [119s/154s] OK
Running ‘spelling.R’ [0s/0s]
Running ‘testthat.R’ [118s/152s]
- checking for unstated dependencies in vignettes ... OK
- checking package vignettes ... OK
- checking re-building of vignette outputs ... [153s/199s] OK
- checking PDF version of manual ... [12s/15s] OK
- checking HTML version of manual ... [3s/5s] OK
- checking for non-standard things in the check directory ... OK
- DONE
Status: OK