- using R version 3.6.1 (2019-07-05)
- using platform: x86_64-pc-linux-gnu (64-bit)
- using session charset: UTF-8
- checking for file ‘Causata/DESCRIPTION’ ... OK
- checking extension type ... Package
- this is package ‘Causata’ version ‘4.2-0’
- checking package namespace information ... OK
- checking package dependencies ... OK
- checking if this is a source package ... OK
- checking if there is a namespace ... OK
- checking for executable files ... OK
- checking for hidden files and directories ... OK
- checking for portable file names ... OK
- checking for sufficient/correct file permissions ... OK
- checking serialization versions ... OK
- checking whether package ‘Causata’ can be installed ... OK
- checking package directory ... OK
- checking for future file timestamps ... OK
- checking ‘build’ directory ... OK
- checking DESCRIPTION meta-information ... NOTE
Malformed Title field: should not end in a period.
- checking top-level files ... NOTE
Non-standard file/directory found at top level:
‘integration_tests’
- checking for left-over files ... OK
- checking index information ... OK
- checking package subdirectories ... OK
- checking R files for non-ASCII characters ... OK
- checking R files for syntax errors ... OK
- checking whether the package can be loaded ... OK
- checking whether the package can be loaded with stated dependencies ... OK
- checking whether the package can be unloaded cleanly ... OK
- checking whether the namespace can be loaded with stated dependencies ... OK
- checking whether the namespace can be unloaded cleanly ... OK
- checking loading without being on the library search path ... OK
- checking use of S3 registration ... OK
- checking dependencies in R code ... OK
- checking S3 generic/method consistency ... OK
- checking replacement functions ... OK
- checking foreign function calls ... OK
- checking R code for possible problems ... [21s/24s] NOTE
BinaryCut: no visible global function definition for ‘quantile’
CleanNaFromContinuousFunction: no visible global function definition
for ‘median’
CleanNaFromContinuousFunction: no visible global function definition
for ‘na.omit’
GetMetadata.Connect: no visible global function definition for
‘dbGetQuery’
GetRawData.Connect: no visible global function definition for
‘dbGetQuery’
Linearity: no visible global function definition for ‘median’
PredictivePowerCv: no visible global function definition for ‘sd’
ReadCausataCsv: no visible global function definition for ‘read.csv’
ToPmml.GlmnetModelDefinition: no visible global function definition for
‘coef’
ToPmml.GlmnetModelDefinition: no visible global function definition for
‘terms.formula’
ValidateModel: no visible global function definition for ‘predict’
predict.GlmnetModelDefinition: no visible global function definition
for ‘model.matrix’
predict.GlmnetModelDefinition: no visible binding for global variable
‘contrasts’
predict.GlmnetModelDefinition: no visible global function definition
for ‘predict’
Undefined global functions or variables:
coef contrasts dbGetQuery median model.matrix na.omit predict
quantile read.csv sd terms.formula
Consider adding
importFrom("stats", "coef", "contrasts", "median", "model.matrix",
"na.omit", "predict", "quantile", "sd", "terms.formula")
importFrom("utils", "read.csv")
to your NAMESPACE file.
- checking Rd files ... OK
- checking Rd metadata ... OK
- checking Rd line widths ... OK
- checking Rd cross-references ... OK
- checking for missing documentation entries ... OK
- checking for code/documentation mismatches ... OK
- checking Rd \usage sections ... OK
- checking Rd contents ... OK
- checking for unstated dependencies in examples ... OK
- checking contents of ‘data’ directory ... OK
- checking data for non-ASCII characters ... OK
- checking data for ASCII and uncompressed saves ... OK
- checking line endings in Makefiles ... OK
- checking for GNU extensions in Makefiles ... OK
- checking include directives in Makefiles ... OK
- checking sizes of PDF files under ‘inst/doc’ ... OK
- checking installed files from ‘inst/doc’ ... OK
- checking files in ‘vignettes’ ... OK
- checking examples ... [12s/13s] OK
- checking for unstated dependencies in ‘tests’ ... OK
- checking tests ... [70s/84s] OK
Running ‘testBinaryCut.R’ [3s/4s]
Running ‘testBinaryPredictor.R’ [4s/5s]
Running ‘testCleanNaFromContinuous.R’ [4s/4s]
Running ‘testCleanNaFromFactor.R’ [3s/4s]
Running ‘testDiscretize.R’ [3s/4s]
Running ‘testFocalPointQuery.R’ [4s/4s]
Running ‘testGetStratifiedSample.R’ [4s/4s]
Running ‘testMergeLevels.R’ [4s/4s]
Running ‘testModelDefinition.R’ [4s/5s]
Running ‘testPredictivePower.R’ [3s/4s]
Running ‘testPreprocess.R’ [3s/4s]
Running ‘testQuery.R’ [4s/4s]
Running ‘testQueryFunctions.R’ [4s/4s]
Running ‘testReliableModelCreation.R’ [4s/4s]
Running ‘testReliableVariableCreation.R’ [4s/4s]
Running ‘testToPmml.R’ [6s/6s]
Running ‘testTransformationReplay.R’ [3s/4s]
Running ‘testUploadGlmnetModel.R’ [4s/4s]
Running ‘testWoe.R’ [3s/4s]
Running ‘utils.R’ [0s/1s]
- checking for unstated dependencies in vignettes ... OK
- checking package vignettes in ‘inst/doc’ ... OK
- checking re-building of vignette outputs ... [57s/64s] OK
- checking PDF version of manual ... OK
- DONE
Status: 3 NOTEs