- using R version 4.3.2 (2023-10-31)
- using platform: x86_64-pc-linux-gnu (64-bit)
- R was compiled by
gcc-13 (Debian 13.2.0-5) 13.2.0
GNU Fortran (Debian 13.2.0-5) 13.2.0
- running under: Debian GNU/Linux trixie/sid
- using session charset: UTF-8
- checking for file ‘Biocomb/DESCRIPTION’ ... OK
- checking extension type ... Package
- this is package ‘Biocomb’ version ‘0.4’
- checking package namespace information ... OK
- checking package dependencies ... OK
- checking if this is a source package ... OK
- checking if there is a namespace ... OK
- checking for executable files ... OK
- checking for hidden files and directories ... OK
- checking for portable file names ... OK
- checking for sufficient/correct file permissions ... OK
- checking serialization versions ... OK
- checking whether package ‘Biocomb’ can be installed ... OK
See the install log for details.
- used C++ compiler: ‘g++-13 (Debian 13.2.0-5) 13.2.0’
- checking package directory ... OK
- checking for future file timestamps ... OK
- checking DESCRIPTION meta-information ... OK
- checking top-level files ... OK
- checking for left-over files ... OK
- checking index information ... OK
- checking package subdirectories ... OK
- checking R files for non-ASCII characters ... OK
- checking R files for syntax errors ... OK
- checking whether the package can be loaded ... [6s/8s] OK
- checking whether the package can be loaded with stated dependencies ... [6s/7s] OK
- checking whether the package can be unloaded cleanly ... [6s/8s] OK
- checking whether the namespace can be loaded with stated dependencies ... [6s/7s] OK
- checking whether the namespace can be unloaded cleanly ... [6s/7s] OK
- checking loading without being on the library search path ... [6s/7s] OK
- checking use of S3 registration ... OK
- checking dependencies in R code ... OK
- checking S3 generic/method consistency ... OK
- checking replacement functions ... OK
- checking foreign function calls ... OK
- checking R code for possible problems ... [36s/42s] OK
- checking Rd files ... [1s/1s] OK
- checking Rd metadata ... OK
- checking Rd line widths ... OK
- checking Rd cross-references ... OK
- checking for missing documentation entries ... OK
- checking for code/documentation mismatches ... OK
- checking Rd \usage sections ... NOTE
S3 methods shown with full name in documentation object 'select.cfs':
‘select.cfs’
S3 methods shown with full name in documentation object 'select.fast.filter':
‘select.fast.filter’
S3 methods shown with full name in documentation object 'select.forward.Corr':
‘select.forward.Corr’
S3 methods shown with full name in documentation object 'select.forward.wrapper':
‘select.forward.wrapper’
S3 methods shown with full name in documentation object 'select.inf.chi2':
‘select.inf.chi2’
S3 methods shown with full name in documentation object 'select.inf.gain':
‘select.inf.gain’
S3 methods shown with full name in documentation object 'select.inf.symm':
‘select.inf.symm’
S3 methods shown with full name in documentation object 'select.process':
‘select.process’
S3 methods shown with full name in documentation object 'select.relief':
‘select.relief’
The \usage entries for S3 methods should use the \method markup and not
their full name.
See chapter ‘Writing R documentation files’ in the ‘Writing R
Extensions’ manual.
- checking Rd contents ... OK
- checking for unstated dependencies in examples ... OK
- checking contents of ‘data’ directory ... OK
- checking data for non-ASCII characters ... [0s/1s] OK
- checking data for ASCII and uncompressed saves ... OK
- checking line endings in C/C++/Fortran sources/headers ... OK
- checking pragmas in C/C++ headers and code ... OK
- checking compilation flags used ... OK
- checking compiled code ... OK
- checking examples ... [34s/38s] OK
Examples with CPU (user + system) or elapsed time > 5s
user system elapsed
select.relief 5.026 0.081 6.113
- checking PDF version of manual ... [9s/14s] OK
- checking HTML version of manual ... [3s/5s] OK
- checking for non-standard things in the check directory ... OK
- DONE
Status: 1 NOTE