- using R version 4.3.1 (2023-06-16)
- using platform: x86_64-pc-linux-gnu (64-bit)
- R was compiled by
gcc-12 (Debian 12.3.0-9) 12.3.0
GNU Fortran (Debian 12.3.0-9) 12.3.0
- running under: Debian GNU/Linux trixie/sid
- using session charset: UTF-8
- checking for file ‘BNPdensity/DESCRIPTION’ ... OK
- checking extension type ... Package
- this is package ‘BNPdensity’ version ‘2023.3.8’
- package encoding: UTF-8
- checking package namespace information ... OK
- checking package dependencies ... OK
- checking if this is a source package ... OK
- checking if there is a namespace ... OK
- checking for executable files ... OK
- checking for hidden files and directories ... OK
- checking for portable file names ... OK
- checking for sufficient/correct file permissions ... OK
- checking whether package ‘BNPdensity’ can be installed ... OK
See the install log for details.
- checking package directory ... OK
- checking for future file timestamps ... OK
- checking DESCRIPTION meta-information ... OK
- checking top-level files ... OK
- checking for left-over files ... OK
- checking index information ... OK
- checking package subdirectories ... OK
- checking R files for non-ASCII characters ... OK
- checking R files for syntax errors ... OK
- checking whether the package can be loaded ... [2s/2s] OK
- checking whether the package can be loaded with stated dependencies ... [1s/1s] OK
- checking whether the package can be unloaded cleanly ... [1s/1s] OK
- checking whether the namespace can be loaded with stated dependencies ... [1s/1s] OK
- checking whether the namespace can be unloaded cleanly ... [2s/2s] OK
- checking loading without being on the library search path ... [2s/2s] OK
- checking use of S3 registration ... OK
- checking dependencies in R code ... OK
- checking S3 generic/method consistency ... OK
- checking replacement functions ... OK
- checking foreign function calls ... OK
- checking R code for possible problems ... [23s/28s] OK
- checking Rd files ... [1s/1s] OK
- checking Rd metadata ... OK
- checking Rd line widths ... OK
- checking Rd cross-references ... OK
- checking for missing documentation entries ... OK
- checking for code/documentation mismatches ... OK
- checking Rd \usage sections ... OK
- checking Rd contents ... OK
- checking for unstated dependencies in examples ... OK
- checking contents of ‘data’ directory ... OK
- checking data for non-ASCII characters ... [1s/1s] OK
- checking LazyData ... OK
- checking data for ASCII and uncompressed saves ... OK
- checking R/sysdata.rda ... OK
- checking examples ... [108s/120s] OK
Examples with CPU (user + system) or elapsed time > 5s
user system elapsed
GOFplots 7.108 0.199 8.443
plot.NRMI1 6.195 0.575 6.531
plot.NRMI2 5.783 0.223 7.160
GOFplots_noncensored 5.694 0.139 7.363
GOFplots_censored 5.305 0.115 6.289
summary.NRMI2 5.049 0.047 6.093
print.NRMI2 4.958 0.048 5.549
plotPDF_noncensored 4.897 0.080 6.429
plotCDF_censored 4.761 0.179 5.318
pp_plot_censored 4.712 0.059 5.254
pp_plot_noncensored 4.627 0.022 5.758
print.NRMI1 4.436 0.068 5.511
Examples with CPU time > 2.5 times elapsed time
user system elapsed ratio
multMixNRMI2 2.826 0.547 1.288 2.619
- checking PDF version of manual ... [10s/13s] OK
- checking HTML version of manual ... [5s/8s] OK
- checking for non-standard things in the check directory ... OK
- DONE
Status: OK