- using R version 4.5.1 (2025-06-13)
- using platform: x86_64-pc-linux-gnu
- R was compiled by
gcc-14 (Debian 14.3.0-8) 14.3.0
GNU Fortran (Debian 14.3.0-8) 14.3.0
- running under: Debian GNU/Linux forky/sid
- using session charset: UTF-8
- checking for file ‘AgroR/DESCRIPTION’ ... OK
- checking extension type ... Package
- this is package ‘AgroR’ version ‘1.3.7’
- package encoding: UTF-8
- checking package namespace information ... OK
- checking package dependencies ... OK
- checking if this is a source package ... OK
- checking if there is a namespace ... OK
- checking for executable files ... OK
- checking for hidden files and directories ... OK
- checking for portable file names ... OK
- checking for sufficient/correct file permissions ... OK
- checking whether package ‘AgroR’ can be installed ... OK
See the install log for details.
- checking package directory ... OK
- checking for future file timestamps ... OK
- checking DESCRIPTION meta-information ... OK
- checking top-level files ... OK
- checking for left-over files ... OK
- checking index information ... OK
- checking package subdirectories ... OK
- checking code files for non-ASCII characters ... OK
- checking R files for syntax errors ... OK
- checking whether the package can be loaded ... [4s/5s] OK
- checking whether the package can be loaded with stated dependencies ... [3s/4s] OK
- checking whether the package can be unloaded cleanly ... [3s/5s] OK
- checking whether the namespace can be loaded with stated dependencies ... [3s/5s] OK
- checking whether the namespace can be unloaded cleanly ... [4s/5s] OK
- checking loading without being on the library search path ... [4s/5s] OK
- checking use of S3 registration ... OK
- checking dependencies in R code ... OK
- checking S3 generic/method consistency ... OK
- checking replacement functions ... OK
- checking foreign function calls ... OK
- checking R code for possible problems ... [151s/182s] OK
- checking Rd files ... [1s/2s] OK
- checking Rd metadata ... OK
- checking Rd line widths ... OK
- checking Rd cross-references ... OK
- checking for missing documentation entries ... OK
- checking for code/documentation mismatches ... OK
- checking Rd \usage sections ... OK
- checking Rd contents ... OK
- checking for unstated dependencies in examples ... OK
- checking contents of ‘data’ directory ... OK
- checking data for non-ASCII characters ... [0s/0s] OK
- checking data for ASCII and uncompressed saves ... OK
- checking examples ... [157s/200s] OK
Examples with CPU (user + system) or elapsed time > 5s
user system elapsed
sketch 8.414 0.059 10.136
summarise_anova 7.239 0.095 8.887
DIC 6.788 0.044 9.077
summarise_conj 5.780 0.074 7.362
grid.onefactor 5.763 0.070 7.228
summarise_dunnett 5.232 0.000 5.837
DICT 4.743 0.036 5.438
barplot_positive 4.515 0.000 5.914
conjdbc 4.302 0.051 5.868
jointcluster 4.285 0.059 5.872
DBCT 4.292 0.036 5.326
dunnett 4.052 0.079 5.030
desc2fat 3.389 0.020 5.350
- checking PDF version of manual ... [13s/17s] OK
- checking HTML version of manual ... [5s/9s] OK
- checking for non-standard things in the check directory ... OK
- DONE
Status: OK