- using R version 3.6.2 RC (2019-12-04 r77523)
- using platform: i386-pc-solaris2.10 (32-bit)
- using session charset: UTF-8
- using option ‘--no-stop-on-test-error’
- checking for file ‘simSummary/DESCRIPTION’ ... OK
- this is package ‘simSummary’ version ‘0.1.0’
- checking package namespace information ... OK
- checking package dependencies ... OK
- checking if this is a source package ... OK
- checking if there is a namespace ... OK
- checking for executable files ... OK
- checking for hidden files and directories ... NOTE
Found the following hidden files and directories:
vignettes/.Rhistory
These were most likely included in error. See section ‘Package
structure’ in the ‘Writing R Extensions’ manual.
- checking for portable file names ... OK
- checking for sufficient/correct file permissions ... OK
- checking whether package ‘simSummary’ can be installed ... OK
- checking installed package size ... OK
- checking package directory ... OK
- checking DESCRIPTION meta-information ... OK
- checking top-level files ... OK
- checking for left-over files ... OK
- checking index information ... OK
- checking package subdirectories ... OK
- checking R files for non-ASCII characters ... OK
- checking R files for syntax errors ... OK
- checking whether the package can be loaded ... OK
- checking whether the package can be loaded with stated dependencies ... OK
- checking whether the package can be unloaded cleanly ... OK
- checking whether the namespace can be loaded with stated dependencies ... OK
- checking whether the namespace can be unloaded cleanly ... OK
- checking loading without being on the library search path ... OK
- checking use of S3 registration ... OK
- checking dependencies in R code ... NOTE
Packages in Depends field not imported from:
‘abind’ ‘svUnit’
These packages need to be imported from (in the NAMESPACE file)
for when this namespace is loaded but not attached.
- checking S3 generic/method consistency ... OK
- checking replacement functions ... OK
- checking foreign function calls ... OK
- checking R code for possible problems ... NOTE
simSummary: no visible global function definition for ‘abind’
simSummary_unitTests: no visible global function definition for
‘clearLog’
simSummary_unitTests: no visible global function definition for
‘runTest’
simSummary_unitTests: no visible global function definition for
‘svSuite’
simSummary_unitTests: no visible global function definition for ‘Log’
simSummary_unitTests: no visible global function definition for ‘stats’
simSummary_unitTests: no visible global function definition for
‘metadata’
simSummary_unitTests: no visible global function definition for
‘errorLog’
Undefined global functions or variables:
Log abind clearLog errorLog metadata runTest stats svSuite
- checking Rd files ... OK
- checking Rd metadata ... OK
- checking Rd cross-references ... OK
- checking for missing documentation entries ... OK
- checking for code/documentation mismatches ... OK
- checking Rd \usage sections ... OK
- checking Rd contents ... OK
- checking for unstated dependencies in examples ... OK
- checking sizes of PDF files under ‘inst/doc’ ... OK
- checking installed files from ‘inst/doc’ ... OK
- checking files in ‘vignettes’ ... OK
- checking examples ... OK
- checking for unstated dependencies in vignettes ... OK
- checking package vignettes in ‘inst/doc’ ... OK
- checking re-building of vignette outputs ... [9s/11s] OK
- checking PDF version of manual ... OK
- DONE
Status: 3 NOTEs