- using R version 4.3.0 Patched (2023-05-23 r84465)
- using platform: x86_64-pc-linux-gnu (64-bit)
- R was compiled by
gcc-11 (Debian 11.3.0-12) 11.3.0
GNU Fortran (Debian 11.3.0-12) 11.3.0
- running under: Debian GNU/Linux 12 (bookworm)
- using session charset: UTF-8
- checking for file ‘wpa/DESCRIPTION’ ... OK
- checking extension type ... Package
- this is package ‘wpa’ version ‘1.8.1’
- package encoding: UTF-8
- checking package namespace information ... OK
- checking package dependencies ... OK
- checking if this is a source package ... OK
- checking if there is a namespace ... OK
- checking for executable files ... OK
- checking for hidden files and directories ... OK
- checking for portable file names ... OK
- checking for sufficient/correct file permissions ... OK
- checking serialization versions ... OK
- checking whether package ‘wpa’ can be installed ... OK
- checking package directory ... OK
- checking for future file timestamps ... OK
- checking DESCRIPTION meta-information ... OK
- checking top-level files ... OK
- checking for left-over files ... OK
- checking index information ... OK
- checking package subdirectories ... OK
- checking R files for non-ASCII characters ... OK
- checking R files for syntax errors ... OK
- checking whether the package can be loaded ... [4s/6s] OK
- checking whether the package can be loaded with stated dependencies ... [4s/5s] OK
- checking whether the package can be unloaded cleanly ... [4s/5s] OK
- checking whether the namespace can be loaded with stated dependencies ... [4s/5s] OK
- checking whether the namespace can be unloaded cleanly ... [4s/5s] OK
- checking loading without being on the library search path ... [4s/5s] OK
- checking startup messages can be suppressed ... [4s/5s] OK
- checking use of S3 registration ... OK
- checking dependencies in R code ... OK
- checking S3 generic/method consistency ... OK
- checking replacement functions ... OK
- checking foreign function calls ... OK
- checking R code for possible problems ... [45s/52s] OK
- checking Rd files ... [4s/4s] OK
- checking Rd metadata ... OK
- checking Rd line widths ... OK
- checking Rd cross-references ... OK
- checking for missing documentation entries ... OK
- checking for code/documentation mismatches ... OK
- checking Rd \usage sections ... OK
- checking Rd contents ... OK
- checking for unstated dependencies in examples ... OK
- checking contents of ‘data’ directory ... OK
- checking data for non-ASCII characters ... [1s/1s] OK
- checking LazyData ... OK
- checking data for ASCII and uncompressed saves ... OK
- checking examples ... [239s/272s] OK
Examples with CPU (user + system) or elapsed time > 5s
user system elapsed
subject_scan 7.710 0.032 9.098
create_line 7.318 0.075 7.953
create_ITSA 6.783 0.080 7.635
tm_freq 6.792 0.004 7.584
meeting_rank 6.681 0.024 8.095
workloads_rank 6.645 0.020 7.835
one2one_rank 6.605 0.039 7.664
keymetrics_scan 6.636 0.000 8.170
email_rank 6.586 0.020 7.387
workpatterns_hclust 6.149 0.004 7.241
collaboration_rank 5.909 0.052 6.162
create_rank 5.723 0.039 6.363
create_hist 5.058 0.024 5.758
IV_by_period 4.842 0.131 5.853
mgrrel_matrix 4.867 0.076 5.827
flex_index 4.896 0.024 5.395
- checking for unstated dependencies in ‘tests’ ... OK
- checking tests ... [84s/94s] OK
Running ‘testthat.R’ [84s/94s]
- checking PDF version of manual ... [25s/25s] OK
- checking HTML version of manual ... [13s/13s] OK
- checking for non-standard things in the check directory ... OK
- DONE
Status: OK