- using R version 4.2.0 Patched (2022-05-20 r82390)
- using platform: x86_64-pc-linux-gnu (64-bit)
- using session charset: UTF-8
- checking for file ‘ursa/DESCRIPTION’ ... OK
- checking extension type ... Package
- this is package ‘ursa’ version ‘3.9.6’
- checking package namespace information ... OK
- checking package dependencies ... OK
- checking if this is a source package ... OK
- checking if there is a namespace ... OK
- checking for executable files ... OK
- checking for hidden files and directories ... OK
- checking for portable file names ... OK
- checking for sufficient/correct file permissions ... OK
- checking whether package ‘ursa’ can be installed ... OK
- checking package directory ... OK
- checking for future file timestamps ... OK
- checking DESCRIPTION meta-information ... OK
- checking top-level files ... OK
- checking for left-over files ... OK
- checking index information ... OK
- checking package subdirectories ... OK
- checking R files for non-ASCII characters ... OK
- checking R files for syntax errors ... OK
- checking whether the package can be loaded ... OK
- checking whether the package can be loaded with stated dependencies ... OK
- checking whether the package can be unloaded cleanly ... OK
- checking whether the namespace can be loaded with stated dependencies ... OK
- checking whether the namespace can be unloaded cleanly ... OK
- checking loading without being on the library search path ... OK
- checking use of S3 registration ... OK
- checking dependencies in R code ... OK
- checking S3 generic/method consistency ... OK
- checking replacement functions ... OK
- checking foreign function calls ... OK
- checking R code for possible problems ... [127s/147s] OK
- checking Rd files ... [3s/4s] OK
- checking Rd metadata ... OK
- checking Rd line widths ... OK
- checking Rd cross-references ... OK
- checking for missing documentation entries ... OK
- checking for code/documentation mismatches ... OK
- checking Rd \usage sections ... OK
- checking Rd contents ... OK
- checking for unstated dependencies in examples ... OK
- checking line endings in C/C++/Fortran sources/headers ... OK
- checking pragmas in C/C++ headers and code ... OK
- checking compilation flags used ... OK
- checking compiled code ... OK
- checking examples ... [226s/261s] OK
Examples with CPU (user + system) or elapsed time > 5s
user system elapsed
compose_open 5.867 0.587 7.197
panel_shading 5.970 0.445 7.694
panel_raster 5.961 0.424 7.291
ursa_000 5.919 0.448 6.886
panel_graticule 5.929 0.376 6.948
legend_colorbar 5.758 0.282 6.598
ursa_as 5.496 0.518 7.267
ursa_new 5.559 0.434 6.149
regrid 5.197 0.526 7.148
panel_scalebar 5.301 0.373 6.578
panel_contour 5.354 0.270 5.950
display_brick 5.224 0.351 6.239
compose_design 4.769 0.365 5.609
panel_new 4.944 0.167 6.007
Ops.local_group 4.596 0.439 5.979
compose_legend 4.635 0.373 5.690
classRaster_plot 4.768 0.198 5.922
Ops.focal_special 4.563 0.384 5.559
ursa_dummy 4.714 0.231 5.151
Ops.local_stat 4.304 0.375 5.195
panel_plot 4.276 0.157 5.132
compose_panel 3.990 0.104 5.134
- checking PDF version of manual ... OK
- checking for non-standard things in the check directory ... OK
- DONE
Status: OK