- using R version 4.5.2 beta (2025-10-20 r88955)
- using platform: x86_64-pc-linux-gnu
- R was compiled by
gcc-14 (Debian 14.3.0-8) 14.3.0
GNU Fortran (Debian 14.3.0-8) 14.3.0
- running under: Debian GNU/Linux forky/sid
- using session charset: UTF-8
- checking for file ‘tidyplots/DESCRIPTION’ ... OK
- this is package ‘tidyplots’ version ‘0.3.1’
- package encoding: UTF-8
- checking package namespace information ... OK
- checking package dependencies ... OK
- checking if this is a source package ... OK
- checking if there is a namespace ... OK
- checking for executable files ... OK
- checking for hidden files and directories ... OK
- checking for portable file names ... OK
- checking for sufficient/correct file permissions ... OK
- checking whether package ‘tidyplots’ can be installed ... OK
See the install log for details.
- checking package directory ... OK
- checking for future file timestamps ... OK
- checking ‘build’ directory ... OK
- checking DESCRIPTION meta-information ... OK
- checking top-level files ... OK
- checking for left-over files ... OK
- checking index information ... OK
- checking package subdirectories ... OK
- checking code files for non-ASCII characters ... OK
- checking R files for syntax errors ... OK
- checking whether the package can be loaded ... [0s/1s] OK
- checking whether the package can be loaded with stated dependencies ... [0s/1s] OK
- checking whether the package can be unloaded cleanly ... [0s/1s] OK
- checking whether the namespace can be loaded with stated dependencies ... [0s/0s] OK
- checking whether the namespace can be unloaded cleanly ... [1s/1s] OK
- checking loading without being on the library search path ... [0s/1s] OK
- checking use of S3 registration ... OK
- checking dependencies in R code ... OK
- checking S3 generic/method consistency ... OK
- checking replacement functions ... OK
- checking foreign function calls ... OK
- checking R code for possible problems ... [18s/23s] OK
- checking Rd files ... [1s/1s] OK
- checking Rd metadata ... OK
- checking Rd line widths ... OK
- checking Rd cross-references ... OK
- checking for missing documentation entries ... OK
- checking for code/documentation mismatches ... OK
- checking Rd \usage sections ... OK
- checking Rd contents ... OK
- checking for unstated dependencies in examples ... OK
- checking contents of ‘data’ directory ... OK
- checking data for non-ASCII characters ... [0s/1s] OK
- checking LazyData ... OK
- checking data for ASCII and uncompressed saves ... OK
- checking installed files from ‘inst/doc’ ... OK
- checking files in ‘vignettes’ ... OK
- checking examples ... [204s/236s] OK
Examples with CPU (user + system) or elapsed time > 5s
user system elapsed
add_test_pvalue 13.321 0.019 15.846
add_sum_bar 9.292 0.064 9.778
add_count_bar 8.303 0.048 10.409
add_mean_bar 8.220 0.014 10.525
split_plot 7.701 0.008 9.255
add_median_bar 7.237 0.052 7.988
adjust_legend_title 6.884 0.005 7.885
add_barstack_absolute 6.097 0.071 8.073
reorder_x_axis_levels 5.525 0.016 6.272
rename_x_axis_levels 5.500 0.008 5.916
sort_x_axis_levels 5.353 0.004 6.483
reverse_x_axis_levels 5.092 0.012 6.520
save_plot 5.054 0.000 5.703
add_sem_ribbon 4.947 0.008 5.608
adjust_colors 4.814 0.008 5.489
remove_y_axis 4.624 0.035 5.200
add_data_labels 4.634 0.008 5.360
add_areastack_absolute 4.358 0.109 5.855
adjust_font 4.410 0.043 5.226
adjust_size 3.918 0.016 5.084
add_data_points 3.803 0.055 5.026
- checking for unstated dependencies in ‘tests’ ... OK
- checking tests ... [33s/39s] OK
Running ‘testthat.R’ [33s/38s]
- checking for unstated dependencies in vignettes ... OK
- checking package vignettes ... OK
- checking re-building of vignette outputs ... [42s/52s] OK
- checking PDF version of manual ... [10s/15s] OK
- checking HTML version of manual ... [4s/6s] OK
- checking for non-standard things in the check directory ... OK
- DONE
Status: OK