* using log directory ‘/home/hornik/tmp/R.check/r-patched-gcc/Work/PKGS/tempted.Rcheck’ * using R version 4.5.1 Patched (2025-07-14 r88410) * using platform: x86_64-pc-linux-gnu * R was compiled by gcc-14 (Debian 14.2.0-19) 14.2.0 GNU Fortran (Debian 14.2.0-19) 14.2.0 * running under: Debian GNU/Linux 13 (trixie) * using session charset: UTF-8 * checking for file ‘tempted/DESCRIPTION’ ... OK * checking extension type ... Package * this is package ‘tempted’ version ‘0.1.1’ * package encoding: UTF-8 * checking package namespace information ... OK * checking package dependencies ... OK * checking if this is a source package ... OK * checking if there is a namespace ... OK * checking for executable files ... OK * checking for hidden files and directories ... OK * checking for portable file names ... OK * checking for sufficient/correct file permissions ... OK * checking whether package ‘tempted’ can be installed ... OK See 'https://www.r-project.org/nosvn/R.check/r-patched-linux-x86_64/tempted-00install.html' for details. * checking package directory ... OK * checking for future file timestamps ... OK * checking DESCRIPTION meta-information ... OK * checking top-level files ... OK * checking for left-over files ... OK * checking index information ... OK * checking package subdirectories ... OK * checking code files for non-ASCII characters ... OK * checking R files for syntax errors ... OK * checking whether the package can be loaded ... [3s/4s] OK * checking whether the package can be loaded with stated dependencies ... [3s/3s] OK * checking whether the package can be unloaded cleanly ... [3s/4s] OK * checking whether the namespace can be loaded with stated dependencies ... [3s/5s] OK * checking whether the namespace can be unloaded cleanly ... [3s/4s] OK * checking loading without being on the library search path ... [3s/4s] OK * checking use of S3 registration ... OK * checking dependencies in R code ... OK * checking S3 generic/method consistency ... OK * checking replacement functions ... OK * checking foreign function calls ... OK * checking R code for possible problems ... [18s/23s] OK * checking Rd files ... [0s/1s] OK * checking Rd metadata ... OK * checking Rd line widths ... OK * checking Rd cross-references ... OK * checking for missing documentation entries ... OK * checking for code/documentation mismatches ... OK * checking Rd \usage sections ... OK * checking Rd contents ... OK * checking for unstated dependencies in examples ... OK * checking contents of ‘data’ directory ... OK * checking data for non-ASCII characters ... [0s/1s] OK * checking LazyData ... OK * checking data for ASCII and uncompressed saves ... OK * checking examples ... [41s/50s] OK Examples with CPU (user + system) or elapsed time > 5s user system elapsed aggregate_feature 9.719 0.298 12.069 tempted_all 6.749 0.023 8.325 reconstruct 6.176 0.067 7.722 est_test_subject 4.415 0.061 5.132 ratio_feature 4.188 0.079 5.793 * checking PDF version of manual ... [5s/6s] OK * checking HTML version of manual ... [1s/1s] OK * checking for non-standard things in the check directory ... OK * DONE Status: OK