* using log directory ‘/home/hornik/tmp/R.check/r-patched-gcc/Work/PKGS/ruminate.Rcheck’ * using R version 4.5.1 Patched (2025-07-14 r88410) * using platform: x86_64-pc-linux-gnu * R was compiled by gcc-14 (Debian 14.2.0-19) 14.2.0 GNU Fortran (Debian 14.2.0-19) 14.2.0 * running under: Debian GNU/Linux 13 (trixie) * using session charset: UTF-8 * checking for file ‘ruminate/DESCRIPTION’ ... OK * this is package ‘ruminate’ version ‘0.3.1’ * package encoding: UTF-8 * checking package namespace information ... OK * checking package dependencies ... OK * checking if this is a source package ... OK * checking if there is a namespace ... OK * checking for executable files ... OK * checking for hidden files and directories ... OK * checking for portable file names ... OK * checking for sufficient/correct file permissions ... OK * checking whether package ‘ruminate’ can be installed ... OK See 'https://www.r-project.org/nosvn/R.check/r-patched-linux-x86_64/ruminate-00install.html' for details. * checking package directory ... OK * checking for future file timestamps ... OK * checking ‘build’ directory ... OK * checking DESCRIPTION meta-information ... OK * checking top-level files ... OK * checking for left-over files ... OK * checking index information ... OK * checking package subdirectories ... OK * checking code files for non-ASCII characters ... OK * checking R files for syntax errors ... OK * checking whether the package can be loaded ... [3s/5s] OK * checking whether the package can be loaded with stated dependencies ... [3s/3s] OK * checking whether the package can be unloaded cleanly ... [3s/3s] OK * checking whether the namespace can be loaded with stated dependencies ... [2s/2s] OK * checking whether the namespace can be unloaded cleanly ... [2s/2s] OK * checking loading without being on the library search path ... [2s/3s] OK * checking whether startup messages can be suppressed ... [3s/4s] OK * checking use of S3 registration ... OK * checking dependencies in R code ... OK * checking S3 generic/method consistency ... OK * checking replacement functions ... OK * checking foreign function calls ... OK * checking R code for possible problems ... [43s/58s] OK * checking Rd files ... [1s/1s] OK * checking Rd metadata ... OK * checking Rd line widths ... OK * checking Rd cross-references ... OK * checking for missing documentation entries ... OK * checking for code/documentation mismatches ... OK * checking Rd \usage sections ... OK * checking Rd contents ... OK * checking for unstated dependencies in examples ... OK * checking installed files from ‘inst/doc’ ... OK * checking files in ‘vignettes’ ... OK * checking examples ... [155s/206s] OK Examples with CPU (user + system) or elapsed time > 5s user system elapsed mk_figure_ind_obs 6.855 0.077 9.340 NCA_fetch_current_obj 6.723 0.122 9.308 mk_table_ind_obs 6.257 0.044 8.030 run_nca_components 5.513 0.027 7.659 NCA_find_col 5.475 0.039 7.387 NCA_append_report 5.175 0.151 8.147 NCA_fetch_ana_ds 5.160 0.047 6.317 NCA_fetch_ana_pknca 5.118 0.069 6.345 mk_table_nca_params 5.024 0.046 6.069 NCA_process_current_ana 5.012 0.042 6.907 NCA_fetch_code 4.958 0.081 6.659 NCA_new_ana 5.022 0.014 7.323 NCA_set_current_ana 4.995 0.028 6.904 NCA_fetch_ds 4.938 0.050 6.675 NCA_fetch_state 4.932 0.044 5.680 NCA_fetch_current_ana 4.948 0.023 6.614 nca_builder 4.940 0.031 7.120 NCA_mkactive_ana 4.903 0.035 6.609 NCA_test_mksession 4.746 0.016 6.996 NCA_mk_preload 4.727 0.025 6.254 * checking for unstated dependencies in ‘tests’ ... OK * checking tests ... [25s/35s] OK Running ‘testthat.R’ [25s/34s] * checking for unstated dependencies in vignettes ... OK * checking package vignettes ... OK * checking re-building of vignette outputs ... [8s/10s] OK * checking PDF version of manual ... [8s/11s] OK * checking HTML version of manual ... [3s/6s] OK * checking for non-standard things in the check directory ... OK * DONE Status: OK