- using R version 4.5.1 Patched (2025-06-30 r88369)
- using platform: x86_64-pc-linux-gnu
- R was compiled by
gcc-14 (Debian 14.2.0-19) 14.2.0
GNU Fortran (Debian 14.2.0-19) 14.2.0
- running under: Debian GNU/Linux 13 (trixie)
- using session charset: UTF-8
- checking for file ‘ruminate/DESCRIPTION’ ... OK
- this is package ‘ruminate’ version ‘0.3.1’
- package encoding: UTF-8
- checking package namespace information ... OK
- checking package dependencies ... OK
- checking if this is a source package ... OK
- checking if there is a namespace ... OK
- checking for executable files ... OK
- checking for hidden files and directories ... OK
- checking for portable file names ... OK
- checking for sufficient/correct file permissions ... OK
- checking whether package ‘ruminate’ can be installed ... OK
See the install log for details.
- checking package directory ... OK
- checking for future file timestamps ... OK
- checking ‘build’ directory ... OK
- checking DESCRIPTION meta-information ... OK
- checking top-level files ... OK
- checking for left-over files ... OK
- checking index information ... OK
- checking package subdirectories ... OK
- checking code files for non-ASCII characters ... OK
- checking R files for syntax errors ... OK
- checking whether the package can be loaded ... [3s/4s] OK
- checking whether the package can be loaded with stated dependencies ... [3s/4s] OK
- checking whether the package can be unloaded cleanly ... [3s/4s] OK
- checking whether the namespace can be loaded with stated dependencies ... [2s/3s] OK
- checking whether the namespace can be unloaded cleanly ... [2s/3s] OK
- checking loading without being on the library search path ... [2s/3s] OK
- checking whether startup messages can be suppressed ... [3s/4s] OK
- checking use of S3 registration ... OK
- checking dependencies in R code ... OK
- checking S3 generic/method consistency ... OK
- checking replacement functions ... OK
- checking foreign function calls ... OK
- checking R code for possible problems ... [43s/59s] OK
- checking Rd files ... [1s/2s] OK
- checking Rd metadata ... OK
- checking Rd line widths ... OK
- checking Rd cross-references ... OK
- checking for missing documentation entries ... OK
- checking for code/documentation mismatches ... OK
- checking Rd \usage sections ... OK
- checking Rd contents ... OK
- checking for unstated dependencies in examples ... OK
- checking installed files from ‘inst/doc’ ... OK
- checking files in ‘vignettes’ ... OK
- checking examples ... [156s/253s] OK
Examples with CPU (user + system) or elapsed time > 5s
user system elapsed
mk_figure_ind_obs 7.049 0.049 11.598
NCA_fetch_current_obj 6.773 0.071 11.275
mk_table_ind_obs 6.449 0.048 11.289
run_nca_components 5.544 0.080 9.478
NCA_find_col 5.450 0.044 7.804
NCA_append_report 5.220 0.140 7.925
mk_table_nca_params 5.312 0.043 8.910
NCA_fetch_ana_ds 5.247 0.095 8.628
NCA_process_current_ana 5.079 0.150 8.732
NCA_set_current_ana 5.103 0.109 8.951
NCA_fetch_ana_pknca 5.159 0.045 7.720
NCA_fetch_state 5.047 0.012 7.869
NCA_fetch_code 4.964 0.078 7.100
NCA_new_ana 5.000 0.032 8.307
NCA_fetch_ds 4.980 0.023 8.691
NCA_mk_preload 4.900 0.068 8.454
NCA_test_mksession 4.871 0.093 7.132
nca_builder 4.916 0.040 8.633
NCA_fetch_current_ana 4.855 0.086 6.785
NCA_mkactive_ana 4.850 0.027 6.996
MB_fetch_component 2.775 0.099 5.456
MB_set_current_element 2.674 0.072 5.480
- checking for unstated dependencies in ‘tests’ ... OK
- checking tests ... [25s/35s] OK
Running ‘testthat.R’ [24s/35s]
- checking for unstated dependencies in vignettes ... OK
- checking package vignettes ... OK
- checking re-building of vignette outputs ... [8s/11s] OK
- checking PDF version of manual ... [8s/11s] OK
- checking HTML version of manual ... [3s/6s] OK
- checking for non-standard things in the check directory ... OK
- DONE
Status: OK