- using R version 4.5.1 Patched (2025-06-30 r88369)
- using platform: x86_64-pc-linux-gnu
- R was compiled by
gcc-14 (Debian 14.2.0-19) 14.2.0
GNU Fortran (Debian 14.2.0-19) 14.2.0
- running under: Debian GNU/Linux 13 (trixie)
- using session charset: UTF-8
- checking for file ‘npboottprm/DESCRIPTION’ ... OK
- this is package ‘npboottprm’ version ‘0.3.2’
- package encoding: UTF-8
- checking package namespace information ... OK
- checking package dependencies ... OK
- checking if this is a source package ... OK
- checking if there is a namespace ... OK
- checking for executable files ... OK
- checking for hidden files and directories ... OK
- checking for portable file names ... OK
- checking for sufficient/correct file permissions ... OK
- checking serialization versions ... OK
- checking whether package ‘npboottprm’ can be installed ... OK
See the install log for details.
- checking package directory ... OK
- checking for future file timestamps ... OK
- checking DESCRIPTION meta-information ... OK
- checking top-level files ... OK
- checking for left-over files ... OK
- checking index information ... OK
- checking package subdirectories ... OK
- checking code files for non-ASCII characters ... OK
- checking R files for syntax errors ... OK
- checking whether the package can be loaded ... [0s/0s] OK
- checking whether the package can be loaded with stated dependencies ... [0s/0s] OK
- checking whether the package can be unloaded cleanly ... [0s/0s] OK
- checking whether the namespace can be loaded with stated dependencies ... [0s/0s] OK
- checking whether the namespace can be unloaded cleanly ... [0s/0s] OK
- checking loading without being on the library search path ... [0s/0s] OK
- checking use of S3 registration ... OK
- checking dependencies in R code ... OK
- checking S3 generic/method consistency ... OK
- checking replacement functions ... OK
- checking foreign function calls ... OK
- checking R code for possible problems ... [7s/10s] OK
- checking Rd files ... [1s/1s] OK
- checking Rd metadata ... OK
- checking Rd line widths ... OK
- checking Rd cross-references ... OK
- checking for missing documentation entries ... OK
- checking for code/documentation mismatches ... OK
- checking Rd \usage sections ... OK
- checking Rd contents ... OK
- checking for unstated dependencies in examples ... OK
- checking contents of ‘data’ directory ... OK
- checking data for non-ASCII characters ... [0s/0s] OK
- checking LazyData ... OK
- checking data for ASCII and uncompressed saves ... OK
- checking examples ... [91s/144s] OK
Examples with CPU (user + system) or elapsed time > 5s
user system elapsed
replext_t2_c1.1 4.415 0.250 6.847
replext_ts2_c3.1 4.001 0.020 6.280
replext_ts3_c2.1 3.851 0.030 6.553
replext_ts2_c2.2 3.796 0.039 5.849
replext_ts2_c1.2 3.800 0.034 5.678
replext_ts3_c2.2 3.824 0.008 5.969
replext_ts3_c3.1 3.824 0.000 7.015
replext_ts3_c3.2 3.767 0.052 6.827
replext_ts2_c4.2 3.783 0.001 6.097
replext_ts2_c1.1 3.771 0.000 5.957
replext_ts3_c4.2 3.766 0.000 6.274
replext_ts2_c4.1 3.757 0.003 5.575
replext_ts3_c4.1 3.741 0.012 5.890
replext_ts2_c3.2 3.711 0.000 5.796
replext_ts3_c1.1 3.683 0.000 5.605
replext_ts2_c2.1 3.679 0.003 5.802
replext_ts3_c1.2 3.651 0.000 5.538
- checking for unstated dependencies in ‘tests’ ... OK
- checking tests ... [37s/57s] OK
Running ‘testthat.R’ [37s/57s]
- checking PDF version of manual ... [9s/14s] OK
- checking HTML version of manual ... [3s/6s] OK
- checking for non-standard things in the check directory ... OK
- DONE
Status: OK