- using R version 4.5.0 Patched (2025-04-24 r88177)
- using platform: x86_64-pc-linux-gnu
- R was compiled by
gcc-14 (Debian 14.2.0-19) 14.2.0
GNU Fortran (Debian 14.2.0-19) 14.2.0
- running under: Debian GNU/Linux trixie/sid
- using session charset: UTF-8
- checking for file ‘movementsync/DESCRIPTION’ ... OK
- checking extension type ... Package
- this is package ‘movementsync’ version ‘0.1.4’
- package encoding: UTF-8
- checking package namespace information ... OK
- checking package dependencies ... OK
- checking if this is a source package ... OK
- checking if there is a namespace ... OK
- checking for executable files ... OK
- checking for hidden files and directories ... OK
- checking for portable file names ... OK
- checking for sufficient/correct file permissions ... OK
- checking serialization versions ... OK
- checking whether package ‘movementsync’ can be installed ... OK
See the install log for details.
- checking package directory ... OK
- checking for future file timestamps ... OK
- checking DESCRIPTION meta-information ... OK
- checking top-level files ... OK
- checking for left-over files ... OK
- checking index information ... OK
- checking package subdirectories ... OK
- checking code files for non-ASCII characters ... OK
- checking R files for syntax errors ... OK
- checking whether the package can be loaded ... [1s/2s] OK
- checking whether the package can be loaded with stated dependencies ... [1s/1s] OK
- checking whether the package can be unloaded cleanly ... [1s/1s] OK
- checking whether the namespace can be loaded with stated dependencies ... [1s/2s] OK
- checking whether the namespace can be unloaded cleanly ... [1s/2s] OK
- checking loading without being on the library search path ... [1s/2s] OK
- checking whether startup messages can be suppressed ... [1s/2s] OK
- checking use of S3 registration ... OK
- checking dependencies in R code ... OK
- checking S3 generic/method consistency ... OK
- checking replacement functions ... OK
- checking foreign function calls ... OK
- checking R code for possible problems ... [17s/22s] OK
- checking Rd files ... [1s/1s] OK
- checking Rd metadata ... OK
- checking Rd line widths ... OK
- checking Rd cross-references ... NOTE
Found the following Rd file(s) with Rd \link{} targets missing package
anchors:
plot.GrangerInteraction.Rd: plot.igraph
plot.View.Rd: plot.zoo
Please provide package anchors for all Rd \link{} targets not in the
package itself and the base packages.
- checking for missing documentation entries ... OK
- checking for code/documentation mismatches ... OK
- checking Rd \usage sections ... OK
- checking Rd contents ... OK
- checking for unstated dependencies in examples ... OK
- checking contents of ‘data’ directory ... OK
- checking data for non-ASCII characters ... [0s/1s] OK
- checking data for ASCII and uncompressed saves ... OK
- checking examples ... [93s/128s] OK
Examples with CPU (user + system) or elapsed time > 5s
user system elapsed
plot_roll_resultant_length 6.469 0.095 9.008
compare_avg_cross_power2 6.112 0.102 8.786
plot_sel_phases 6.168 0.031 7.405
plot_cwt_energy 5.898 0.114 8.262
analyze_coherency 5.630 0.213 8.749
ave_cross_power_over_splices 5.750 0.074 6.977
plot_cross_spectrum 5.730 0.004 9.171
summary.sel.phases 5.548 0.052 6.294
plot_average_coherency 5.377 0.110 7.510
granger_test 3.058 0.028 5.201
- checking for unstated dependencies in ‘tests’ ... OK
- checking tests ... [3s/3s] OK
Running ‘testthat.R’ [2s/3s]
- checking PDF version of manual ... [9s/12s] OK
- checking HTML version of manual ... [4s/8s] OK
- checking for non-standard things in the check directory ... OK
- DONE
Status: 1 NOTE