- using R version 4.5.1 Patched (2025-07-06 r88391)
- using platform: x86_64-pc-linux-gnu
- R was compiled by
gcc-14 (Debian 14.2.0-19) 14.2.0
GNU Fortran (Debian 14.2.0-19) 14.2.0
- running under: Debian GNU/Linux 13 (trixie)
- using session charset: UTF-8
- checking for file ‘mosclust/DESCRIPTION’ ... OK
- checking extension type ... Package
- this is package ‘mosclust’ version ‘1.0.2’
- package encoding: UTF-8
- checking package namespace information ... OK
- checking package dependencies ... OK
- checking if this is a source package ... OK
- checking if there is a namespace ... OK
- checking for executable files ... OK
- checking for hidden files and directories ... OK
- checking for portable file names ... OK
- checking for sufficient/correct file permissions ... OK
- checking serialization versions ... OK
- checking whether package ‘mosclust’ can be installed ... OK
See the install log for details.
- checking package directory ... OK
- checking for future file timestamps ... OK
- checking DESCRIPTION meta-information ... OK
- checking top-level files ... OK
- checking for left-over files ... OK
- checking index information ... OK
- checking package subdirectories ... OK
- checking code files for non-ASCII characters ... OK
- checking R files for syntax errors ... OK
- checking whether the package can be loaded ... [0s/1s] OK
- checking whether the package can be loaded with stated dependencies ... [0s/0s] OK
- checking whether the package can be unloaded cleanly ... [0s/0s] OK
- checking whether the namespace can be loaded with stated dependencies ... [0s/0s] OK
- checking whether the namespace can be unloaded cleanly ... [0s/0s] OK
- checking loading without being on the library search path ... [0s/0s] OK
- checking use of S3 registration ... OK
- checking dependencies in R code ... OK
- checking S3 generic/method consistency ... OK
- checking replacement functions ... OK
- checking foreign function calls ... OK
- checking R code for possible problems ... [6s/7s] OK
- checking Rd files ... [1s/1s] OK
- checking Rd metadata ... OK
- checking Rd line widths ... OK
- checking Rd cross-references ... OK
- checking for missing documentation entries ... OK
- checking for code/documentation mismatches ... OK
- checking Rd \usage sections ... OK
- checking Rd contents ... OK
- checking for unstated dependencies in examples ... OK
- checking sizes of PDF files under ‘inst/doc’ ... OK
- checking installed files from ‘inst/doc’ ... OK
- checking examples ... [113s/160s] OK
Examples with CPU (user + system) or elapsed time > 5s
user system elapsed
Compute.Chi.sq 9.700 0.426 15.561
PAM.sim.noise 8.242 0.134 13.160
Similarity.measures 7.735 0.040 12.073
Do.boolean.membership.matrix 7.310 0.051 8.388
Hierarchical.sim.projection 6.964 0.027 9.138
plot_histograms.similarity 6.533 0.008 10.086
plot_cumulative 6.450 0.004 10.799
compute.integral 6.386 0.000 10.692
compute.cumulative.multiple 6.299 0.004 9.983
plot_pvalues 6.303 0.000 10.397
Fuzzy.kmeans.sim.projection 6.146 0.036 6.379
Kmeans.sim.noise 6.129 0.004 6.505
PAM.sim.projection 4.980 0.015 8.041
Kmeans.sim.projection 4.358 0.000 5.015
Fuzzy.kmeans.sim.resampling 3.702 0.001 5.323
PAM.sim.resampling 2.762 0.000 5.185
- checking PDF version of manual ... [5s/7s] OK
- checking HTML version of manual ... [2s/2s] OK
- checking for non-standard things in the check directory ... OK
- DONE
Status: OK