- using R version 4.2.0 Patched (2022-05-15 r82368)
- using platform: x86_64-pc-linux-gnu (64-bit)
- using session charset: UTF-8
- checking for file ‘meifly/DESCRIPTION’ ... OK
- checking extension type ... Package
- this is package ‘meifly’ version ‘0.3’
- checking package namespace information ... OK
- checking package dependencies ... OK
- checking if this is a source package ... OK
- checking if there is a namespace ... OK
- checking for executable files ... OK
- checking for hidden files and directories ... OK
- checking for portable file names ... OK
- checking for sufficient/correct file permissions ... OK
- checking serialization versions ... OK
- checking whether package ‘meifly’ can be installed ... OK
- checking package directory ... OK
- checking for future file timestamps ... OK
- checking DESCRIPTION meta-information ... OK
- checking top-level files ... OK
- checking for left-over files ... OK
- checking index information ... OK
- checking package subdirectories ... OK
- checking R files for non-ASCII characters ... OK
- checking R files for syntax errors ... OK
- checking whether the package can be loaded ... OK
- checking whether the package can be loaded with stated dependencies ... OK
- checking whether the package can be unloaded cleanly ... OK
- checking whether the namespace can be loaded with stated dependencies ... OK
- checking whether the namespace can be unloaded cleanly ... OK
- checking loading without being on the library search path ... OK
- checking use of S3 registration ... OK
- checking dependencies in R code ... OK
- checking S3 generic/method consistency ... OK
- checking replacement functions ... OK
- checking foreign function calls ... OK
- checking R code for possible problems ... [5s/7s] NOTE
.df: no visible global function definition for ‘logLik’
coef_simple: no visible global function definition for ‘coef’
fitall: no visible binding for global variable ‘as.formula’
fitbest: no visible binding for global variable ‘as.formula’
lmboot: no visible global function definition for ‘lm’
residuals.ensemble : <anonymous>: no visible global function definition
for ‘resid’
residuals.ensemble : <anonymous>: no visible global function definition
for ‘rstudent’
residuals.ensemble : <anonymous>: no visible global function definition
for ‘fitted’
residuals.ensemble : <anonymous>: no visible global function definition
for ‘influence.measures’
stdcoef: no visible global function definition for ‘coef’
stdcoef: no visible global function definition for ‘update’
summary.ensemble : <anonymous>: no visible global function definition
for ‘logLik’
summary.ensemble : <anonymous>: no visible global function definition
for ‘AIC’
summary.ensemble : <anonymous>: no visible global function definition
for ‘fitted’
summary.resid_ensemble: no visible binding for global variable
‘rstudent’
summary.resid_ensemble: no visible global function definition for ‘sd’
summary.variable_ensemble: no visible global function definition for
‘sd’
Undefined global functions or variables:
AIC as.formula coef fitted influence.measures lm logLik resid
rstudent sd update
Consider adding
importFrom("stats", "AIC", "as.formula", "coef", "fitted",
"influence.measures", "lm", "logLik", "resid", "rstudent",
"sd", "update")
to your NAMESPACE file.
- checking Rd files ... [0s/1s] OK
- checking Rd metadata ... OK
- checking Rd line widths ... OK
- checking Rd cross-references ... OK
- checking for missing documentation entries ... OK
- checking for code/documentation mismatches ... OK
- checking Rd \usage sections ... OK
- checking Rd contents ... OK
- checking for unstated dependencies in examples ... OK
- checking LazyData ... NOTE
'LazyData' is specified without a 'data' directory
- checking examples ... [1s/2s] OK
- checking PDF version of manual ... OK
- checking for non-standard things in the check directory ... OK
- DONE
Status: 2 NOTEs