- using R version 4.5.1 Patched (2025-06-30 r88369)
- using platform: x86_64-pc-linux-gnu
- R was compiled by
gcc-14 (Debian 14.2.0-19) 14.2.0
GNU Fortran (Debian 14.2.0-19) 14.2.0
- running under: Debian GNU/Linux 13 (trixie)
- using session charset: UTF-8
- checking for file ‘lavaan.mi/DESCRIPTION’ ... OK
- this is package ‘lavaan.mi’ version ‘0.1-0’
- package encoding: UTF-8
- checking package namespace information ... OK
- checking package dependencies ... OK
- checking if this is a source package ... OK
- checking if there is a namespace ... OK
- checking for executable files ... OK
- checking for hidden files and directories ... OK
- checking for portable file names ... OK
- checking for sufficient/correct file permissions ... OK
- checking whether package ‘lavaan.mi’ can be installed ... OK
See the install log for details.
- checking package directory ... OK
- checking for future file timestamps ... OK
- checking DESCRIPTION meta-information ... OK
- checking top-level files ... OK
- checking for left-over files ... OK
- checking index information ... OK
- checking package subdirectories ... OK
- checking code files for non-ASCII characters ... OK
- checking R files for syntax errors ... OK
- checking whether the package can be loaded ... [0s/1s] OK
- checking whether the package can be loaded with stated dependencies ... [0s/1s] OK
- checking whether the package can be unloaded cleanly ... [0s/1s] OK
- checking whether the namespace can be loaded with stated dependencies ... [0s/1s] OK
- checking whether the namespace can be unloaded cleanly ... [0s/1s] OK
- checking loading without being on the library search path ... [1s/1s] OK
- checking whether startup messages can be suppressed ... [1s/1s] OK
- checking use of S3 registration ... OK
- checking dependencies in R code ... OK
- checking S3 generic/method consistency ... OK
- checking replacement functions ... OK
- checking foreign function calls ... OK
- checking R code for possible problems ... [21s/33s] OK
- checking Rd files ... [1s/1s] OK
- checking Rd metadata ... OK
- checking Rd line widths ... OK
- checking Rd cross-references ... OK
- checking for missing documentation entries ... OK
- checking for code/documentation mismatches ... OK
- checking Rd \usage sections ... OK
- checking Rd contents ... OK
- checking for unstated dependencies in examples ... OK
- checking contents of ‘data’ directory ... OK
- checking data for non-ASCII characters ... [0s/0s] OK
- checking LazyData ... OK
- checking data for ASCII and uncompressed saves ... OK
- checking examples ... [77s/83s] OK
Examples with CPU (user + system) or elapsed time > 5s
user system elapsed
lavTestLRT.mi 11.460 0.062 13.269
lavaan.mi-class 11.368 0.025 11.922
lavResiduals.mi 10.483 0.090 11.280
lavTestScore.mi 10.119 0.012 11.196
poolSat 9.133 0.014 9.748
modindices.mi 6.511 0.022 6.921
lavaan.mi 5.664 0.017 6.030
lavTestWald.mi 5.043 0.016 5.232
- checking PDF version of manual ... [5s/8s] OK
- checking HTML version of manual ... [2s/3s] OK
- checking for non-standard things in the check directory ... OK
- DONE
Status: OK