- using R version 4.3.0 alpha (2023-03-24 r84048)
- using platform: x86_64-pc-linux-gnu (64-bit)
- R was compiled by
gcc-11 (Debian 11.3.0-12) 11.3.0
GNU Fortran (Debian 11.3.0-12) 11.3.0
- running under: Debian GNU/Linux bookworm/sid
- using session charset: UTF-8
- checking for file ‘htmcglm/DESCRIPTION’ ... OK
- checking extension type ... Package
- this is package ‘htmcglm’ version ‘0.0.1’
- package encoding: UTF-8
- checking package namespace information ... OK
- checking package dependencies ... OK
- checking if this is a source package ... OK
- checking if there is a namespace ... OK
- checking for executable files ... OK
- checking for hidden files and directories ... OK
- checking for portable file names ... OK
- checking for sufficient/correct file permissions ... OK
- checking serialization versions ... OK
- checking whether package ‘htmcglm’ can be installed ... OK
- checking package directory ... OK
- checking for future file timestamps ... OK
- checking DESCRIPTION meta-information ... OK
- checking top-level files ... OK
- checking for left-over files ... OK
- checking index information ... OK
- checking package subdirectories ... OK
- checking R files for non-ASCII characters ... OK
- checking R files for syntax errors ... OK
- checking whether the package can be loaded ... [2s/3s] OK
- checking whether the package can be loaded with stated dependencies ... [2s/3s] OK
- checking whether the package can be unloaded cleanly ... [2s/3s] OK
- checking whether the namespace can be loaded with stated dependencies ... [2s/3s] OK
- checking whether the namespace can be unloaded cleanly ... [2s/3s] OK
- checking loading without being on the library search path ... [2s/3s] OK
- checking use of S3 registration ... OK
- checking dependencies in R code ... OK
- checking S3 generic/method consistency ... OK
- checking replacement functions ... OK
- checking foreign function calls ... OK
- checking R code for possible problems ... [17s/20s] OK
- checking Rd files ... [0s/1s] OK
- checking Rd metadata ... OK
- checking Rd line widths ... OK
- checking Rd cross-references ... OK
- checking for missing documentation entries ... OK
- checking for code/documentation mismatches ... OK
- checking Rd \usage sections ... OK
- checking Rd contents ... OK
- checking for unstated dependencies in examples ... OK
- checking examples ... [61s/68s] OK
Examples with CPU (user + system) or elapsed time > 5s
user system elapsed
mc_multcomp 6.474 0.067 7.326
mc_anova_I 6.024 0.052 6.860
mc_mult_multcomp 5.860 0.028 6.802
mc_anova_dispersion 5.235 0.109 5.915
mc_anova_II 5.256 0.000 6.465
mc_anova_III 4.812 0.226 5.652
mc_manova_III 4.822 0.067 5.153
mc_manova_II 4.763 0.004 5.249
mc_linear_hypothesis 4.754 0.004 5.432
mc_manova_I 4.694 0.004 5.536
mc_manova_dispersion 4.598 0.004 5.024
- checking PDF version of manual ... [5s/8s] OK
- checking HTML version of manual ... [1s/1s] OK
- checking for non-standard things in the check directory ... OK
- DONE
Status: OK