* using log directory ‘/home/hornik/tmp/R.check/r-patched-gcc/Work/PKGS/gtsummary.Rcheck’ * using R version 4.5.1 Patched (2025-07-14 r88410) * using platform: x86_64-pc-linux-gnu * R was compiled by gcc-14 (Debian 14.2.0-19) 14.2.0 GNU Fortran (Debian 14.2.0-19) 14.2.0 * running under: Debian GNU/Linux 13 (trixie) * using session charset: UTF-8 * checking for file ‘gtsummary/DESCRIPTION’ ... OK * this is package ‘gtsummary’ version ‘2.3.0’ * package encoding: UTF-8 * checking package namespace information ... OK * checking package dependencies ... OK * checking if this is a source package ... OK * checking if there is a namespace ... OK * checking for executable files ... OK * checking for hidden files and directories ... OK * checking for portable file names ... OK * checking for sufficient/correct file permissions ... OK * checking whether package ‘gtsummary’ can be installed ... OK See 'https://www.r-project.org/nosvn/R.check/r-patched-linux-x86_64/gtsummary-00install.html' for details. * checking package directory ... OK * checking for future file timestamps ... OK * checking ‘build’ directory ... OK * checking DESCRIPTION meta-information ... OK * checking top-level files ... OK * checking for left-over files ... OK * checking index information ... OK * checking package subdirectories ... OK * checking code files for non-ASCII characters ... OK * checking R files for syntax errors ... OK * checking whether the package can be loaded ... [1s/1s] OK * checking whether the package can be loaded with stated dependencies ... [1s/1s] OK * checking whether the package can be unloaded cleanly ... [1s/1s] OK * checking whether the namespace can be loaded with stated dependencies ... [1s/1s] OK * checking whether the namespace can be unloaded cleanly ... [1s/1s] OK * checking loading without being on the library search path ... [1s/1s] OK * checking whether startup messages can be suppressed ... [1s/1s] OK * checking use of S3 registration ... OK * checking dependencies in R code ... OK * checking S3 generic/method consistency ... OK * checking replacement functions ... OK * checking foreign function calls ... OK * checking R code for possible problems ... [38s/42s] OK * checking Rd files ... [1s/2s] OK * checking Rd metadata ... OK * checking Rd line widths ... OK * checking Rd cross-references ... OK * checking for missing documentation entries ... OK * checking for code/documentation mismatches ... OK * checking Rd \usage sections ... OK * checking Rd contents ... OK * checking for unstated dependencies in examples ... OK * checking contents of ‘data’ directory ... OK * checking data for non-ASCII characters ... [0s/0s] OK * checking LazyData ... OK * checking data for ASCII and uncompressed saves ... OK * checking R/sysdata.rda ... OK * checking installed files from ‘inst/doc’ ... OK * checking files in ‘vignettes’ ... OK * checking examples ... [195s/230s] OK Examples with CPU (user + system) or elapsed time > 5s user system elapsed add_overall 8.728 0.120 11.035 tbl_custom_summary 8.583 0.015 9.780 tbl_svysummary 7.279 0.006 8.019 add_p.tbl_cross 7.106 0.020 8.265 tbl_ard_summary 7.084 0.039 8.520 gather_ard 6.590 0.030 7.804 tbl_cross 6.563 0.013 7.217 sort_filter_p 6.173 0.051 8.548 tbl_strata_nested_stack 6.048 0.005 7.014 bold_p 5.833 0.047 6.563 combine_terms 5.743 0.055 6.646 add_stat 5.711 0.007 9.135 modify_column_merge 5.462 0.035 6.284 inline_text.tbl_uvregression 5.187 0.003 5.535 add_stat_label 5.120 0.019 7.091 tbl_survfit 4.481 0.007 5.263 * checking for unstated dependencies in ‘tests’ ... OK * checking tests ... [49s/40s] OK Running ‘spelling.R’ [0s/0s] Running ‘testthat.R’ [48s/39s] * checking for unstated dependencies in vignettes ... OK * checking package vignettes ... OK * checking re-building of vignette outputs ... [11s/14s] OK * checking PDF version of manual ... [16s/22s] OK * checking HTML version of manual ... [8s/14s] OK * checking for non-standard things in the check directory ... OK * DONE Status: OK