- using R version 4.5.1 Patched (2025-07-06 r88391)
- using platform: x86_64-pc-linux-gnu
- R was compiled by
gcc-14 (Debian 14.2.0-19) 14.2.0
GNU Fortran (Debian 14.2.0-19) 14.2.0
- running under: Debian GNU/Linux 13 (trixie)
- using session charset: UTF-8
- checking for file ‘gtsummary/DESCRIPTION’ ... OK
- this is package ‘gtsummary’ version ‘2.3.0’
- package encoding: UTF-8
- checking package namespace information ... OK
- checking package dependencies ... OK
- checking if this is a source package ... OK
- checking if there is a namespace ... OK
- checking for executable files ... OK
- checking for hidden files and directories ... OK
- checking for portable file names ... OK
- checking for sufficient/correct file permissions ... OK
- checking whether package ‘gtsummary’ can be installed ... OK
See the install log for details.
- checking package directory ... OK
- checking for future file timestamps ... OK
- checking ‘build’ directory ... OK
- checking DESCRIPTION meta-information ... OK
- checking top-level files ... OK
- checking for left-over files ... OK
- checking index information ... OK
- checking package subdirectories ... OK
- checking code files for non-ASCII characters ... OK
- checking R files for syntax errors ... OK
- checking whether the package can be loaded ... [1s/1s] OK
- checking whether the package can be loaded with stated dependencies ... [1s/1s] OK
- checking whether the package can be unloaded cleanly ... [1s/1s] OK
- checking whether the namespace can be loaded with stated dependencies ... [1s/1s] OK
- checking whether the namespace can be unloaded cleanly ... [1s/1s] OK
- checking loading without being on the library search path ... [1s/1s] OK
- checking whether startup messages can be suppressed ... [1s/1s] OK
- checking use of S3 registration ... OK
- checking dependencies in R code ... OK
- checking S3 generic/method consistency ... OK
- checking replacement functions ... OK
- checking foreign function calls ... OK
- checking R code for possible problems ... [39s/57s] OK
- checking Rd files ... [1s/2s] OK
- checking Rd metadata ... OK
- checking Rd line widths ... OK
- checking Rd cross-references ... OK
- checking for missing documentation entries ... OK
- checking for code/documentation mismatches ... OK
- checking Rd \usage sections ... OK
- checking Rd contents ... OK
- checking for unstated dependencies in examples ... OK
- checking contents of ‘data’ directory ... OK
- checking data for non-ASCII characters ... [0s/0s] OK
- checking LazyData ... OK
- checking data for ASCII and uncompressed saves ... OK
- checking R/sysdata.rda ... OK
- checking installed files from ‘inst/doc’ ... OK
- checking files in ‘vignettes’ ... OK
- checking examples ... [199s/292s] OK
Examples with CPU (user + system) or elapsed time > 5s
user system elapsed
tbl_custom_summary 8.889 0.071 14.191
add_overall 8.656 0.056 12.864
tbl_svysummary 7.791 0.016 12.198
add_p.tbl_cross 7.261 0.023 10.493
tbl_ard_summary 7.266 0.005 11.392
tbl_cross 6.696 0.004 10.652
gather_ard 6.541 0.073 9.776
sort_filter_p 6.379 0.035 9.731
tbl_strata_nested_stack 6.276 0.008 9.449
combine_terms 5.778 0.014 7.464
bold_p 5.687 0.011 7.682
add_stat 5.644 0.007 8.558
modify_column_merge 5.542 0.013 8.722
inline_text.tbl_uvregression 5.322 0.054 8.274
add_stat_label 4.912 0.008 6.602
tbl_survfit 4.726 0.024 6.933
inline_text.tbl_cross 4.105 0.001 5.399
modify_table_body 3.726 0.004 5.245
inline_text.tbl_regression 3.586 0.011 5.434
as_flex_table 3.515 0.066 5.092
add_overall_ard 3.419 0.049 5.362
add_nevent.tbl_survfit 3.323 0.130 5.037
separate_p_footnotes 3.297 0.007 5.393
- checking for unstated dependencies in ‘tests’ ... OK
- checking tests ... [45s/37s] OK
Running ‘spelling.R’ [0s/0s]
Running ‘testthat.R’ [44s/37s]
- checking for unstated dependencies in vignettes ... OK
- checking package vignettes ... OK
- checking re-building of vignette outputs ... [10s/17s] OK
- checking PDF version of manual ... [15s/21s] OK
- checking HTML version of manual ... [8s/14s] OK
- checking for non-standard things in the check directory ... OK
- DONE
Status: OK