- using R version 4.2.0 Patched (2022-05-15 r82368)
- using platform: x86_64-pc-linux-gnu (64-bit)
- using session charset: UTF-8
- checking for file ‘epcc/DESCRIPTION’ ... OK
- checking extension type ... Package
- this is package ‘epcc’ version ‘1.4.7’
- package encoding: UTF-8
- checking package namespace information ... OK
- checking package dependencies ... OK
- checking if this is a source package ... OK
- checking if there is a namespace ... OK
- checking for executable files ... OK
- checking for hidden files and directories ... OK
- checking for portable file names ... OK
- checking for sufficient/correct file permissions ... OK
- checking serialization versions ... OK
- checking whether package ‘epcc’ can be installed ... OK
- checking package directory ... OK
- checking for future file timestamps ... OK
- checking DESCRIPTION meta-information ... OK
- checking top-level files ... OK
- checking for left-over files ... OK
- checking index information ... OK
- checking package subdirectories ... OK
- checking R files for non-ASCII characters ... OK
- checking R files for syntax errors ... OK
- checking whether the package can be loaded ... OK
- checking whether the package can be loaded with stated dependencies ... OK
- checking whether the package can be unloaded cleanly ... OK
- checking whether the namespace can be loaded with stated dependencies ... OK
- checking whether the namespace can be unloaded cleanly ... OK
- checking loading without being on the library search path ... OK
- checking use of S3 registration ... OK
- checking dependencies in R code ... OK
- checking S3 generic/method consistency ... OK
- checking replacement functions ... OK
- checking foreign function calls ... OK
- checking R code for possible problems ... [83s/98s] OK
- checking Rd files ... [1s/1s] OK
- checking Rd metadata ... OK
- checking Rd line widths ... OK
- checking Rd cross-references ... OK
- checking for missing documentation entries ... OK
- checking for code/documentation mismatches ... OK
- checking Rd \usage sections ... OK
- checking Rd contents ... OK
- checking for unstated dependencies in examples ... OK
- checking examples ... [115s/135s] OK
Examples with CPU (user + system) or elapsed time > 5s
user system elapsed
variability 9.373 0.348 10.233
predation 9.453 0.060 11.678
competition 9.231 0.141 10.633
increasing_periodicity 8.886 0.135 9.937
IPCC_RCP8_5 7.128 0.143 8.529
IPCC_RCP2_6 6.033 0.127 7.441
decreasing_periodicity 5.378 0.107 5.918
increasing_stabilization 5.132 0.074 5.774
cooling_pulse1 5.075 0.071 5.634
cooling_pulse2 5.024 0.095 5.713
heating_pulse2 5.070 0.035 5.793
increasing_linear 4.923 0.067 5.766
heating_pulse1 4.848 0.099 5.517
decreasing_linear 4.860 0.043 6.358
decreasing_stabilization 4.840 0.047 5.430
trend_periodic 4.724 0.040 6.095
- checking PDF version of manual ... OK
- checking for non-standard things in the check directory ... OK
- DONE
Status: OK