- using R version 4.5.1 Patched (2025-06-30 r88369)
- using platform: x86_64-pc-linux-gnu
- R was compiled by
gcc-14 (Debian 14.2.0-19) 14.2.0
GNU Fortran (Debian 14.2.0-19) 14.2.0
- running under: Debian GNU/Linux 13 (trixie)
- using session charset: UTF-8
- checking for file ‘ecochange/DESCRIPTION’ ... OK
- checking extension type ... Package
- this is package ‘ecochange’ version ‘2.9.3.3’
- package encoding: UTF-8
- checking package namespace information ... OK
- checking package dependencies ... OK
- checking if this is a source package ... OK
- checking if there is a namespace ... OK
- checking for executable files ... OK
- checking for hidden files and directories ... OK
- checking for portable file names ... OK
- checking for sufficient/correct file permissions ... OK
- checking whether package ‘ecochange’ can be installed ... OK
See the install log for details.
- checking package directory ... OK
- checking for future file timestamps ... OK
- checking ‘build’ directory ... OK
- checking DESCRIPTION meta-information ... OK
- checking top-level files ... OK
- checking for left-over files ... OK
- checking index information ... OK
- checking package subdirectories ... OK
- checking code files for non-ASCII characters ... OK
- checking R files for syntax errors ... OK
- checking whether the package can be loaded ... [11s/16s] OK
- checking whether the package can be loaded with stated dependencies ... [11s/15s] OK
- checking whether the package can be unloaded cleanly ... [10s/15s] OK
- checking whether the namespace can be loaded with stated dependencies ... [11s/18s] OK
- checking whether the namespace can be unloaded cleanly ... [12s/13s] OK
- checking loading without being on the library search path ... [11s/17s] OK
- checking whether startup messages can be suppressed ... [11s/14s] OK
- checking use of S3 registration ... OK
- checking dependencies in R code ... OK
- checking S3 generic/method consistency ... OK
- checking replacement functions ... OK
- checking foreign function calls ... OK
- checking R code for possible problems ... [52s/72s] OK
- checking Rd files ... [0s/1s] OK
- checking Rd metadata ... OK
- checking Rd line widths ... OK
- checking Rd cross-references ... OK
- checking for missing documentation entries ... OK
- checking for code/documentation mismatches ... OK
- checking Rd \usage sections ... OK
- checking Rd contents ... OK
- checking for unstated dependencies in examples ... OK
- checking installed files from ‘inst/doc’ ... OK
- checking files in ‘vignettes’ ... OK
- checking examples ... [50s/43s] OK
Examples with CPU (user + system) or elapsed time > 5s
user system elapsed
sampleIndicator 7.729 1.091 6.399
gaugeIndicator 4.990 0.701 4.154
plot.Indicator 4.864 0.713 5.661
EBVstats 4.641 0.526 3.492
plot.echanges 4.412 0.590 4.064
plot.EBVstats 4.351 0.626 5.270
- checking for unstated dependencies in vignettes ... OK
- checking package vignettes ... OK
- checking re-building of vignette outputs ... [2s/4s] OK
- checking PDF version of manual ... [5s/7s] OK
- checking HTML version of manual ... [1s/1s] OK
- checking for non-standard things in the check directory ... OK
- DONE
Status: OK