- using R version 4.5.2 RC (2025-10-27 r88972)
 
- using platform: x86_64-pc-linux-gnu
 
- R was compiled by
    gcc-14 (Debian 14.3.0-8) 14.3.0
    GNU Fortran (Debian 14.3.0-8) 14.3.0
 
- running under: Debian GNU/Linux forky/sid
 
- using session charset: UTF-8
 
- checking for file ‘creditmodel/DESCRIPTION’ ... OK
 
- this is package ‘creditmodel’ version ‘1.3.1’
 
- package encoding: UTF-8
 
- checking package namespace information ... OK
 
- checking package dependencies ... OK
 
- checking if this is a source package ... OK
 
- checking if there is a namespace ... OK
 
- checking for executable files ... OK
 
- checking for hidden files and directories ... OK
 
- checking for portable file names ... OK
 
- checking for sufficient/correct file permissions ... OK
 
- checking serialization versions ... OK
 
- checking whether package ‘creditmodel’ can be installed ... OK
See the install log for details.
 
- checking package directory ... OK
 
- checking for future file timestamps ... OK
 
- checking ‘build’ directory ... OK
 
- checking DESCRIPTION meta-information ... OK
 
- checking top-level files ... OK
 
- checking for left-over files ... OK
 
- checking index information ... OK
 
- checking package subdirectories ... NOTE
Problems with news in ‘NEWS.md’:
No news entries found.
 
- checking code files for non-ASCII characters ... OK
 
- checking R files for syntax errors ... OK
 
- checking whether the package can be loaded ... [4s/5s] OK
 
- checking whether the package can be loaded with stated dependencies ... [3s/3s] OK
 
- checking whether the package can be unloaded cleanly ... [3s/4s] OK
 
- checking whether the namespace can be loaded with stated dependencies ... [3s/4s] OK
 
- checking whether the namespace can be unloaded cleanly ... [3s/4s] OK
 
- checking loading without being on the library search path ... [3s/5s] OK
 
- checking whether startup messages can be suppressed ... [3s/4s] OK
 
- checking use of S3 registration ... OK
 
- checking dependencies in R code ... OK
 
- checking S3 generic/method consistency ... OK
 
- checking replacement functions ... OK
 
- checking foreign function calls ... OK
 
- checking R code for possible problems ... [51s/61s] OK
 
- checking Rd files ... [1s/1s] NOTE
checkRd: (-1) ks_table.Rd:77: Lost braces
    77 | \item{tb_pred}{A table generated by code{\link{ks_table}}}
       |                                         ^
checkRd: (-1) plot_theme.Rd:22: Lost braces
    22 | \item{legend.position}{see details at: code{legend.position}}
       |                                            ^
checkRd: (-1) plot_theme.Rd:24: Lost braces
    24 | \item{angle}{see details at:  code{axis.text.x}}
       |                                   ^
checkRd: (-1) plot_theme.Rd:26: Lost braces
    26 | \item{legend_size}{see details at:  code{legend.text}}
       |                                         ^
checkRd: (-1) plot_theme.Rd:28: Lost braces
    28 | \item{axis_size_y}{see details at:  code{axis.text.y}}
       |                                         ^
checkRd: (-1) plot_theme.Rd:30: Lost braces
    30 | \item{axis_size_x}{see details at:  code{axis.text.x}}
       |                                         ^
checkRd: (-1) plot_theme.Rd:32: Lost braces
    32 | \item{axis_title_size}{see details at:  code{axis.title.x}}
       |                                             ^
checkRd: (-1) plot_theme.Rd:34: Lost braces
    34 | \item{title_size}{see details at:  code{plot.title}}
       |                                        ^
checkRd: (-1) plot_theme.Rd:36: Lost braces
    36 | \item{title_vjust}{see details at:  code{plot.title}}
       |                                         ^
checkRd: (-1) plot_theme.Rd:38: Lost braces
    38 | \item{title_hjust}{see details at:  code{plot.title}}
       |                                         ^
checkRd: (-1) plot_theme.Rd:40: Lost braces
    40 | \item{linetype}{see details at:  code{panel.grid.major}}
       |                                      ^
checkRd: (-1) plot_theme.Rd:42: Lost braces
    42 | \item{face}{see details at:  code{axis.title.x}}
       |                                  ^
checkRd: (-1) plot_theme.Rd:48: Lost braces
    48 | see details at: code{theme}
       |                     ^
checkRd: (-1) process_nas.Rd:69: Lost braces
    69 | \item{missing_type}{Type of missing, genereted by code{\link{analysis_nas}}}
       |                                                       ^
checkRd: (-1) split_bins_all.Rd:29: Lost braces
    29 | \item{breaks_list}{A list contains breaks of variables. it is generated by code{\link{get_breaks_all}},code{\link{get_breaks}}}
       |                                                                                ^
checkRd: (-1) split_bins_all.Rd:29: Lost braces
    29 | \item{breaks_list}{A list contains breaks of variables. it is generated by code{\link{get_breaks_all}},code{\link{get_breaks}}}
       |                                                                                                            ^
checkRd: (-1) woe_trans_all.Rd:40: Lost braces
    40 | \item{bins_table}{A table contians woe of each bin of variables, it is generated by code{\link{get_bins_table_all}},code{\link{get_bins_table}}}
       |                                                                                         ^
checkRd: (-1) woe_trans_all.Rd:40: Lost braces
    40 | \item{bins_table}{A table contians woe of each bin of variables, it is generated by code{\link{get_bins_table_all}},code{\link{get_bins_table}}}
       |                                                                                                                         ^
checkRd: (-1) woe_trans_all.Rd:44: Lost braces
    44 | \item{breaks_list}{A list contains breaks of variables. it is generated by code{\link{get_breaks_all}},code{\link{get_breaks}}}
       |                                                                                ^
checkRd: (-1) woe_trans_all.Rd:44: Lost braces
    44 | \item{breaks_list}{A list contains breaks of variables. it is generated by code{\link{get_breaks_all}},code{\link{get_breaks}}}
       |                                                                                                            ^
 
- checking Rd metadata ... OK
 
- checking Rd line widths ... OK
 
- checking Rd cross-references ... OK
 
- checking for missing documentation entries ... OK
 
- checking for code/documentation mismatches ... OK
 
- checking Rd \usage sections ... OK
 
- checking Rd contents ... OK
 
- checking for unstated dependencies in examples ... OK
 
- checking contents of ‘data’ directory ... OK
 
- checking data for non-ASCII characters ... [1s/2s] OK
 
- checking LazyData ... OK
 
- checking data for ASCII and uncompressed saves ... OK
 
- checking installed files from ‘inst/doc’ ... OK
 
- checking files in ‘vignettes’ ... OK
 
- checking examples ... [64s/81s] OK
Examples with CPU (user + system) or elapsed time > 5s
                user system elapsed
training_model 8.966  0.036  12.940
multi_grid     6.877  0.009   9.216
lasso_filter   4.670  0.049   5.407
ks_table       4.182  0.062   5.021
 
- checking for unstated dependencies in vignettes ... OK
 
- checking package vignettes ... OK
 
- checking re-building of vignette outputs ... [174s/206s] OK
 
- checking PDF version of manual ... [12s/16s] OK
 
- checking HTML version of manual ... [4s/8s] OK
 
- checking for non-standard things in the check directory ... OK
 
- DONE
 
Status: 2 NOTEs