- using R version 4.3.0 Patched (2023-05-23 r84463)
- using platform: x86_64-pc-linux-gnu (64-bit)
- R was compiled by
gcc-11 (Debian 11.3.0-12) 11.3.0
GNU Fortran (Debian 11.3.0-12) 11.3.0
- running under: Debian GNU/Linux 12 (bookworm)
- using session charset: UTF-8
- checking for file ‘beautier/DESCRIPTION’ ... OK
- this is package ‘beautier’ version ‘2.6.5’
- package encoding: UTF-8
- checking package namespace information ... OK
- checking package dependencies ... OK
- checking if this is a source package ... OK
- checking if there is a namespace ... OK
- checking for executable files ... OK
- checking for hidden files and directories ... OK
- checking for portable file names ... OK
- checking for sufficient/correct file permissions ... OK
- checking serialization versions ... OK
- checking whether package ‘beautier’ can be installed ... OK
- checking package directory ... OK
- checking for future file timestamps ... OK
- checking ‘build’ directory ... OK
- checking DESCRIPTION meta-information ... OK
- checking top-level files ... OK
- checking for left-over files ... OK
- checking index information ... OK
- checking package subdirectories ... OK
- checking R files for non-ASCII characters ... OK
- checking R files for syntax errors ... OK
- checking whether the package can be loaded ... [0s/0s] OK
- checking whether the package can be loaded with stated dependencies ... [0s/0s] OK
- checking whether the package can be unloaded cleanly ... [0s/0s] OK
- checking whether the namespace can be loaded with stated dependencies ... [0s/0s] OK
- checking whether the namespace can be unloaded cleanly ... [0s/1s] OK
- checking loading without being on the library search path ... [0s/0s] OK
- checking use of S3 registration ... OK
- checking dependencies in R code ... OK
- checking S3 generic/method consistency ... OK
- checking replacement functions ... OK
- checking foreign function calls ... OK
- checking R code for possible problems ... [26s/31s] OK
- checking Rd files ... [3s/3s] OK
- checking Rd metadata ... OK
- checking Rd line widths ... OK
- checking Rd cross-references ... OK
- checking for missing documentation entries ... OK
- checking for code/documentation mismatches ... OK
- checking Rd \usage sections ... OK
- checking Rd contents ... OK
- checking for unstated dependencies in examples ... OK
- checking installed files from ‘inst/doc’ ... OK
- checking files in ‘vignettes’ ... OK
- checking examples ... [178s/209s] OK
Examples with CPU (user + system) or elapsed time > 5s
user system elapsed
rename_inference_model_filenames 7.442 0.038 8.216
has_rln_clock_model 7.068 0.032 7.985
has_strict_clock_model 6.883 0.016 7.535
has_tip_dating 6.822 0.059 8.011
has_mrca_prior 6.783 0.029 7.763
is_mcmc 5.875 0.044 6.760
is_mcmc_nested_sampling 5.864 0.043 6.808
mcmc_to_xml_run_default 5.040 0.044 5.884
mcmc_to_xml_run_nested_sampling 4.302 0.024 5.052
get_inference_model_filenames 4.253 0.020 5.233
- checking for unstated dependencies in vignettes ... OK
- checking package vignettes in ‘inst/doc’ ... OK
- checking re-building of vignette outputs ... [92s/104s] OK
- checking PDF version of manual ... [23s/30s] OK
- checking HTML version of manual ... [15s/34s] OK
- checking for non-standard things in the check directory ... OK
- DONE
Status: OK