* using log directory ‘/home/hornik/tmp/R.check/r-patched-gcc/Work/PKGS/bayesplot.Rcheck’ * using R version 4.5.1 Patched (2025-07-14 r88410) * using platform: x86_64-pc-linux-gnu * R was compiled by gcc-14 (Debian 14.2.0-19) 14.2.0 GNU Fortran (Debian 14.2.0-19) 14.2.0 * running under: Debian GNU/Linux 13 (trixie) * using session charset: UTF-8 * checking for file ‘bayesplot/DESCRIPTION’ ... OK * checking extension type ... Package * this is package ‘bayesplot’ version ‘1.13.0’ * package encoding: UTF-8 * checking package namespace information ... OK * checking package dependencies ... OK * checking if this is a source package ... OK * checking if there is a namespace ... OK * checking for executable files ... OK * checking for hidden files and directories ... OK * checking for portable file names ... OK * checking for sufficient/correct file permissions ... OK * checking serialization versions ... OK * checking whether package ‘bayesplot’ can be installed ... OK See 'https://www.r-project.org/nosvn/R.check/r-patched-linux-x86_64/bayesplot-00install.html' for details. * checking package directory ... OK * checking for future file timestamps ... OK * checking ‘build’ directory ... OK * checking DESCRIPTION meta-information ... OK * checking top-level files ... OK * checking for left-over files ... OK * checking index information ... OK * checking package subdirectories ... OK * checking code files for non-ASCII characters ... OK * checking R files for syntax errors ... OK * checking whether the package can be loaded ... [1s/2s] OK * checking whether the package can be loaded with stated dependencies ... [1s/1s] OK * checking whether the package can be unloaded cleanly ... [1s/1s] OK * checking whether the namespace can be loaded with stated dependencies ... [1s/1s] OK * checking whether the namespace can be unloaded cleanly ... [1s/2s] OK * checking loading without being on the library search path ... [1s/2s] OK * checking whether startup messages can be suppressed ... [1s/2s] OK * checking use of S3 registration ... OK * checking dependencies in R code ... OK * checking S3 generic/method consistency ... OK * checking replacement functions ... OK * checking foreign function calls ... OK * checking R code for possible problems ... [23s/28s] OK * checking Rd files ... [1s/1s] OK * checking Rd metadata ... OK * checking Rd line widths ... OK * checking Rd cross-references ... OK * checking for missing documentation entries ... OK * checking for code/documentation mismatches ... OK * checking Rd \usage sections ... OK * checking Rd contents ... OK * checking for unstated dependencies in examples ... OK * checking R/sysdata.rda ... OK * checking installed files from ‘inst/doc’ ... OK * checking files in ‘vignettes’ ... OK * checking examples ... [94s/125s] OK Examples with CPU (user + system) or elapsed time > 5s user system elapsed bayesplot-colors 7.335 0.024 9.662 PPC-test-statistics 6.388 0.027 7.296 MCMC-traces 6.258 0.071 7.524 PPD-intervals 6.036 0.044 9.844 MCMC-intervals 5.433 0.052 6.240 PPC-intervals 5.375 0.056 6.704 bayesplot_theme_get 4.894 0.000 6.699 pp_check 4.307 0.015 7.615 bayesplot-helpers 4.289 0.004 5.530 tidy-params 3.850 0.008 6.922 * checking for unstated dependencies in ‘tests’ ... OK * checking tests ... [219s/300s] OK Running ‘testthat.R’ [219s/300s] * checking for unstated dependencies in vignettes ... OK * checking package vignettes ... OK * checking re-building of vignette outputs ... [10s/15s] OK * checking PDF version of manual ... [8s/10s] OK * checking HTML version of manual ... [4s/7s] OK * checking for non-standard things in the check directory ... OK * DONE Status: OK