- using R version 4.5.1 Patched (2025-06-23 r88347)
- using platform: x86_64-pc-linux-gnu
- R was compiled by
gcc-14 (Debian 14.2.0-19) 14.2.0
GNU Fortran (Debian 14.2.0-19) 14.2.0
- running under: Debian GNU/Linux 13 (trixie)
- using session charset: UTF-8
- checking for file ‘bayesplot/DESCRIPTION’ ... OK
- checking extension type ... Package
- this is package ‘bayesplot’ version ‘1.13.0’
- package encoding: UTF-8
- checking package namespace information ... OK
- checking package dependencies ... OK
- checking if this is a source package ... OK
- checking if there is a namespace ... OK
- checking for executable files ... OK
- checking for hidden files and directories ... OK
- checking for portable file names ... OK
- checking for sufficient/correct file permissions ... OK
- checking serialization versions ... OK
- checking whether package ‘bayesplot’ can be installed ... OK
See the install log for details.
- checking package directory ... OK
- checking for future file timestamps ... OK
- checking ‘build’ directory ... OK
- checking DESCRIPTION meta-information ... OK
- checking top-level files ... OK
- checking for left-over files ... OK
- checking index information ... OK
- checking package subdirectories ... OK
- checking code files for non-ASCII characters ... OK
- checking R files for syntax errors ... OK
- checking whether the package can be loaded ... [1s/2s] OK
- checking whether the package can be loaded with stated dependencies ... [1s/2s] OK
- checking whether the package can be unloaded cleanly ... [1s/1s] OK
- checking whether the namespace can be loaded with stated dependencies ... [1s/1s] OK
- checking whether the namespace can be unloaded cleanly ... [1s/2s] OK
- checking loading without being on the library search path ... [1s/2s] OK
- checking whether startup messages can be suppressed ... [1s/2s] OK
- checking use of S3 registration ... OK
- checking dependencies in R code ... OK
- checking S3 generic/method consistency ... OK
- checking replacement functions ... OK
- checking foreign function calls ... OK
- checking R code for possible problems ... [24s/32s] OK
- checking Rd files ... [1s/1s] OK
- checking Rd metadata ... OK
- checking Rd line widths ... OK
- checking Rd cross-references ... OK
- checking for missing documentation entries ... OK
- checking for code/documentation mismatches ... OK
- checking Rd \usage sections ... OK
- checking Rd contents ... OK
- checking for unstated dependencies in examples ... OK
- checking R/sysdata.rda ... OK
- checking installed files from ‘inst/doc’ ... OK
- checking files in ‘vignettes’ ... OK
- checking examples ... [93s/137s] OK
Examples with CPU (user + system) or elapsed time > 5s
user system elapsed
bayesplot-colors 7.309 0.074 11.373
MCMC-traces 6.485 0.053 10.068
PPC-test-statistics 6.142 0.015 8.491
PPD-intervals 5.995 0.012 8.819
MCMC-intervals 5.267 0.020 6.067
bayesplot_theme_get 5.066 0.012 8.523
PPC-intervals 5.058 0.000 6.910
MCMC-combos 4.201 0.131 6.877
bayesplot-helpers 4.230 0.059 6.181
pp_check 4.230 0.048 6.022
MCMC-distributions 3.749 0.056 5.386
tidy-params 3.638 0.004 5.572
PPC-distributions 3.567 0.023 5.559
- checking for unstated dependencies in ‘tests’ ... OK
- checking tests ... [220s/314s] OK
Running ‘testthat.R’ [219s/313s]
- checking for unstated dependencies in vignettes ... OK
- checking package vignettes ... OK
- checking re-building of vignette outputs ... [11s/16s] OK
- checking PDF version of manual ... [8s/11s] OK
- checking HTML version of manual ... [4s/6s] OK
- checking for non-standard things in the check directory ... OK
- DONE
Status: OK