- using R version 3.5.0 RC (2018-04-16 r74618)
- using platform: x86_64-pc-linux-gnu (64-bit)
- using session charset: UTF-8
- checking for file ‘abf2/DESCRIPTION’ ... OK
- checking extension type ... Package
- this is package ‘abf2’ version ‘0.7-1’
- checking package namespace information ... OK
- checking package dependencies ... OK
- checking if this is a source package ... OK
- checking if there is a namespace ... OK
- checking for executable files ... OK
- checking for hidden files and directories ... OK
- checking for portable file names ... OK
- checking for sufficient/correct file permissions ... OK
- checking serialization versions ... OK
- checking whether package ‘abf2’ can be installed ... OK
- checking package directory ... OK
- checking DESCRIPTION meta-information ... OK
- checking top-level files ... OK
- checking for left-over files ... OK
- checking index information ... OK
- checking package subdirectories ... OK
- checking R files for non-ASCII characters ... OK
- checking R files for syntax errors ... OK
- checking whether the package can be loaded ... OK
- checking whether the package can be loaded with stated dependencies ... OK
- checking whether the package can be unloaded cleanly ... OK
- checking whether the namespace can be loaded with stated dependencies ... OK
- checking whether the namespace can be unloaded cleanly ... OK
- checking loading without being on the library search path ... OK
- checking use of S3 registration ... OK
- checking dependencies in R code ... OK
- checking S3 generic/method consistency ... OK
- checking replacement functions ... OK
- checking foreign function calls ... OK
- checking R code for possible problems ... [5s/8s] NOTE
multiplot: no visible global function definition for ‘rainbow’
multiplot: no visible global function definition for ‘plot’
multiplot: no visible global function definition for ‘text’
multiplot: no visible global function definition for ‘lines’
multiplot: no visible global function definition for ‘par’
plot.abf2: no visible global function definition for ‘plot’
plot.abf2: no visible global function definition for ‘abline’
plot.abf2: no visible global function definition for ‘text’
plot.abf2split: no visible global function definition for ‘plot’
Undefined global functions or variables:
abline lines par plot rainbow text
Consider adding
importFrom("grDevices", "rainbow")
importFrom("graphics", "abline", "lines", "par", "plot", "text")
to your NAMESPACE file.
- checking Rd files ... OK
- checking Rd metadata ... OK
- checking Rd line widths ... OK
- checking Rd cross-references ... OK
- checking for missing documentation entries ... OK
- checking for code/documentation mismatches ... OK
- checking Rd \usage sections ... OK
- checking Rd contents ... OK
- checking for unstated dependencies in examples ... OK
- checking examples ... [0s/1s] OK
- checking PDF version of manual ... OK
- DONE
Status: 1 NOTE