- using R version 4.0.3 Patched (2021-01-18 r79846)
- using platform: x86_64-pc-linux-gnu (64-bit)
- using session charset: UTF-8
- checking for file ‘TimeProjection/DESCRIPTION’ ... OK
- this is package ‘TimeProjection’ version ‘0.2.0’
- checking package namespace information ... OK
- checking package dependencies ... OK
- checking if this is a source package ... OK
- checking if there is a namespace ... OK
- checking for executable files ... OK
- checking for hidden files and directories ... OK
- checking for portable file names ... OK
- checking for sufficient/correct file permissions ... OK
- checking serialization versions ... OK
- checking whether package ‘TimeProjection’ can be installed ... OK
- checking package directory ... OK
- checking for future file timestamps ... OK
- checking DESCRIPTION meta-information ... OK
- checking top-level files ... OK
- checking for left-over files ... OK
- checking index information ... OK
- checking package subdirectories ... OK
- checking R files for non-ASCII characters ... OK
- checking R files for syntax errors ... OK
- checking whether the package can be loaded ... OK
- checking whether the package can be loaded with stated dependencies ... OK
- checking whether the package can be unloaded cleanly ... OK
- checking whether the namespace can be loaded with stated dependencies ... OK
- checking whether the namespace can be unloaded cleanly ... OK
- checking loading without being on the library search path ... OK
- checking use of S3 registration ... OK
- checking dependencies in R code ... NOTE
'library' or 'require' calls in package code:
‘ggplot2’ ‘plyr’
Please use :: or requireNamespace() instead.
See section 'Suggested packages' in the 'Writing R Extensions' manual.
Packages in Depends field not imported from:
‘Matrix’ ‘lubridate’ ‘timeDate’
These packages need to be imported from (in the NAMESPACE file)
for when this namespace is loaded but not attached.
- checking S3 generic/method consistency ... OK
- checking replacement functions ... OK
- checking foreign function calls ... OK
- checking R code for possible problems ... [8s/10s] NOTE
is.Bizday: no visible global function definition for ‘isWeekday’
plotCalendarHeatmap: no visible global function definition for ‘ddply’
plotCalendarHeatmap: no visible global function definition for ‘.’
plotCalendarHeatmap: no visible binding for global variable ‘year’
plotCalendarHeatmap: no visible binding for global variable ‘month’
plotCalendarHeatmap: no visible binding for global variable ‘week’
plotCalendarHeatmap: no visible global function definition for ‘ggplot’
plotCalendarHeatmap: no visible global function definition for ‘aes’
plotCalendarHeatmap: no visible binding for global variable ‘monthweek’
plotCalendarHeatmap: no visible binding for global variable ‘weekday’
plotCalendarHeatmap: no visible global function definition for
‘geom_tile’
plotCalendarHeatmap: no visible global function definition for
‘facet_grid’
plotCalendarHeatmap: no visible global function definition for
‘scale_fill_gradientn’
projectDate: no visible global function definition for ‘holidayNYSE’
projectDate: no visible global function definition for
‘sparse.model.matrix’
Undefined global functions or variables:
. aes ddply facet_grid geom_tile ggplot holidayNYSE isWeekday month
monthweek scale_fill_gradientn sparse.model.matrix week weekday year
- checking Rd files ... OK
- checking Rd metadata ... OK
- checking Rd line widths ... OK
- checking Rd cross-references ... OK
- checking for missing documentation entries ... OK
- checking for code/documentation mismatches ... OK
- checking Rd \usage sections ... OK
- checking Rd contents ... OK
- checking for unstated dependencies in examples ... OK
- checking examples ... [5s/5s] OK
- checking PDF version of manual ... OK
- checking for non-standard things in the check directory ... OK
- DONE
Status: 2 NOTEs