- using R version 4.3.1 Patched (2023-09-15 r85165)
- using platform: x86_64-pc-linux-gnu (64-bit)
- R was compiled by
gcc-12 (Debian 12.3.0-9) 12.3.0
GNU Fortran (Debian 12.3.0-9) 12.3.0
- running under: Debian GNU/Linux trixie/sid
- using session charset: UTF-8
- checking for file ‘TeachingDemos/DESCRIPTION’ ... OK
- this is package ‘TeachingDemos’ version ‘2.12’
- checking package namespace information ... OK
- checking package dependencies ... NOTE
Package suggested but not available for checking: ‘R2wd’
- checking if this is a source package ... OK
- checking if there is a namespace ... OK
- checking for executable files ... OK
- checking for hidden files and directories ... OK
- checking for portable file names ... OK
- checking for sufficient/correct file permissions ... OK
- checking serialization versions ... OK
- checking whether package ‘TeachingDemos’ can be installed ... OK
See the install log for details.
- checking package directory ... OK
- checking for future file timestamps ... OK
- checking DESCRIPTION meta-information ... OK
- checking top-level files ... OK
- checking for left-over files ... OK
- checking index information ... OK
- checking package subdirectories ... OK
- checking R files for non-ASCII characters ... OK
- checking R files for syntax errors ... OK
- checking whether the package can be loaded ... [0s/1s] OK
- checking whether the package can be loaded with stated dependencies ... [0s/0s] OK
- checking whether the package can be unloaded cleanly ... [0s/0s] OK
- checking whether the namespace can be loaded with stated dependencies ... [0s/0s] OK
- checking whether the namespace can be unloaded cleanly ... [0s/0s] OK
- checking loading without being on the library search path ... [0s/0s] OK
- checking use of S3 registration ... OK
- checking dependencies in R code ... OK
- checking S3 generic/method consistency ... OK
- checking replacement functions ... OK
- checking foreign function calls ... OK
- checking R code for possible problems ... [39s/47s] OK
- checking Rd files ... [2s/2s] NOTE
checkRd: (-1) R2txt.Rd:164: Escaped LaTeX specials: \#
checkRd: (-1) bct.Rd:18: Escaped LaTeX specials: \^
checkRd: (-1) bct.Rd:19: Escaped LaTeX specials: \^
checkRd: (-1) ineq.Rd:10: Escaped LaTeX specials: \&
checkRd: (-1) put.points.demo.Rd:39: Escaped LaTeX specials: \^
checkRd: (-1) run.cor.examp.Rd:10: Escaped LaTeX specials: \^
checkRd: (-1) run.cor.examp.Rd:31: Escaped LaTeX specials: \^
- checking Rd metadata ... OK
- checking Rd line widths ... OK
- checking Rd cross-references ... OK
- checking for missing documentation entries ... OK
- checking for code/documentation mismatches ... OK
- checking Rd \usage sections ... OK
- checking Rd contents ... OK
- checking for unstated dependencies in examples ... OK
- checking contents of ‘data’ directory ... OK
- checking data for non-ASCII characters ... [0s/1s] OK
- checking LazyData ... OK
- checking data for ASCII and uncompressed saves ... OK
- checking examples ... [18s/21s] OK
Examples with CPU (user + system) or elapsed time > 5s
user system elapsed
simfun 8.077 0.004 9.326
- checking PDF version of manual ... [10s/14s] OK
- checking HTML version of manual ... [5s/10s] OK
- checking for non-standard things in the check directory ... OK
- DONE
Status: 2 NOTEs