- using R version 4.5.1 Patched (2025-07-06 r88391)
- using platform: x86_64-pc-linux-gnu
- R was compiled by
gcc-14 (Debian 14.2.0-19) 14.2.0
GNU Fortran (Debian 14.2.0-19) 14.2.0
- running under: Debian GNU/Linux 13 (trixie)
- using session charset: UTF-8
- checking for file ‘RtsEva/DESCRIPTION’ ... OK
- checking extension type ... Package
- this is package ‘RtsEva’ version ‘1.1.0’
- package encoding: UTF-8
- checking package namespace information ... OK
- checking package dependencies ... OK
- checking if this is a source package ... OK
- checking if there is a namespace ... OK
- checking for executable files ... OK
- checking for hidden files and directories ... OK
- checking for portable file names ... OK
- checking for sufficient/correct file permissions ... OK
- checking serialization versions ... OK
- checking whether package ‘RtsEva’ can be installed ... OK
See the install log for details.
- checking package directory ... OK
- checking for future file timestamps ... OK
- checking ‘build’ directory ... OK
- checking DESCRIPTION meta-information ... OK
- checking top-level files ... OK
- checking for left-over files ... OK
- checking index information ... OK
- checking package subdirectories ... OK
- checking code files for non-ASCII characters ... OK
- checking R files for syntax errors ... OK
- checking whether the package can be loaded ... [2s/4s] OK
- checking whether the package can be loaded with stated dependencies ... [2s/3s] OK
- checking whether the package can be unloaded cleanly ... [2s/2s] OK
- checking whether the namespace can be loaded with stated dependencies ... [2s/3s] OK
- checking whether the namespace can be unloaded cleanly ... [2s/3s] OK
- checking loading without being on the library search path ... [2s/3s] OK
- checking use of S3 registration ... OK
- checking dependencies in R code ... OK
- checking S3 generic/method consistency ... OK
- checking replacement functions ... OK
- checking foreign function calls ... OK
- checking R code for possible problems ... [23s/27s] OK
- checking Rd files ... [1s/1s] OK
- checking Rd metadata ... OK
- checking Rd line widths ... OK
- checking Rd cross-references ... OK
- checking for missing documentation entries ... OK
- checking for code/documentation mismatches ... OK
- checking Rd \usage sections ... OK
- checking Rd contents ... OK
- checking for unstated dependencies in examples ... OK
- checking contents of ‘data’ directory ... OK
- checking data for non-ASCII characters ... [1s/2s] OK
- checking LazyData ... OK
- checking data for ASCII and uncompressed saves ... OK
- checking installed files from ‘inst/doc’ ... OK
- checking files in ‘vignettes’ ... OK
- checking examples ... [89s/135s] OK
Examples with CPU (user + system) or elapsed time > 5s
user system
tsEvaPlotTransfToStatFromAnalysisObj 6.382 0.159
tsEvaPlotSeriesTrendStdDevFromAnalyisObj 6.244 0.237
tsEvaPlotReturnLevelsGPDFromAnalysisObj 6.200 0.175
tsEvaPlotReturnLevelsGEVFromAnalysisObj 6.041 0.164
tsEvaPlotGPDImageScFromAnalysisObj 5.973 0.213
TsEvaNs 5.665 0.289
tsEvaPlotAllRLevelsGPD 5.697 0.234
tsEvaPlotAllRLevelsGEV 5.730 0.177
tsEvaPlotGEVImageScFromAnalysisObj 5.531 0.194
tsEvaFindTrendThreshold 4.077 0.198
tsEvaNanRunningPercentiles 3.876 0.110
tsEvaTransformSeriesToStationaryTrendAndChangepts_ciPercentile 3.644 0.185
max_daily_value 3.436 0.245
tsEstimateAverageSeasonality 2.936 0.013
elapsed
tsEvaPlotTransfToStatFromAnalysisObj 10.281
tsEvaPlotSeriesTrendStdDevFromAnalyisObj 10.675
tsEvaPlotReturnLevelsGPDFromAnalysisObj 9.709
tsEvaPlotReturnLevelsGEVFromAnalysisObj 8.329
tsEvaPlotGPDImageScFromAnalysisObj 8.993
TsEvaNs 8.249
tsEvaPlotAllRLevelsGPD 8.569
tsEvaPlotAllRLevelsGEV 9.406
tsEvaPlotGEVImageScFromAnalysisObj 8.639
tsEvaFindTrendThreshold 6.575
tsEvaNanRunningPercentiles 5.484
tsEvaTransformSeriesToStationaryTrendAndChangepts_ciPercentile 6.306
max_daily_value 5.621
tsEstimateAverageSeasonality 5.092
- checking for unstated dependencies in ‘tests’ ... OK
- checking tests ... [7s/9s] OK
Running ‘testthat.R’ [7s/9s]
- checking for unstated dependencies in vignettes ... OK
- checking package vignettes ... OK
- checking re-building of vignette outputs ... [14s/22s] OK
- checking PDF version of manual ... [6s/10s] OK
- checking HTML version of manual ... [2s/4s] OK
- checking for non-standard things in the check directory ... OK
- DONE
Status: OK