* using log directory ‘/home/hornik/tmp/R.check/r-patched-gcc/Work/PKGS/RKEEL.Rcheck’ * using R version 4.5.1 Patched (2025-07-14 r88410) * using platform: x86_64-pc-linux-gnu * R was compiled by gcc-14 (Debian 14.2.0-19) 14.2.0 GNU Fortran (Debian 14.2.0-19) 14.2.0 * running under: Debian GNU/Linux 13 (trixie) * using session charset: UTF-8 * checking for file ‘RKEEL/DESCRIPTION’ ... OK * checking extension type ... Package * this is package ‘RKEEL’ version ‘1.3.4’ * checking package namespace information ... OK * checking package dependencies ... OK * checking if this is a source package ... OK * checking if there is a namespace ... OK * checking for executable files ... OK * checking for hidden files and directories ... OK * checking for portable file names ... OK * checking for sufficient/correct file permissions ... OK * checking serialization versions ... OK * checking whether package ‘RKEEL’ can be installed ... OK See 'https://www.r-project.org/nosvn/R.check/r-patched-linux-x86_64/RKEEL-00install.html' for details. * checking package directory ... OK * checking for future file timestamps ... OK * checking DESCRIPTION meta-information ... OK * checking top-level files ... OK * checking for left-over files ... OK * checking index information ... OK * checking package subdirectories ... OK * checking code files for non-ASCII characters ... OK * checking R files for syntax errors ... OK * checking whether the package can be loaded ... [1s/1s] OK * checking whether the package can be loaded with stated dependencies ... [1s/1s] OK * checking whether the package can be unloaded cleanly ... [1s/1s] OK * checking whether the namespace can be loaded with stated dependencies ... [1s/1s] OK * checking whether the namespace can be unloaded cleanly ... [1s/1s] OK * checking loading without being on the library search path ... [1s/1s] OK * checking whether startup messages can be suppressed ... [1s/1s] OK * checking use of S3 registration ... OK * checking dependencies in R code ... OK * checking S3 generic/method consistency ... OK * checking replacement functions ... OK * checking foreign function calls ... OK * checking R code for possible problems ... [13s/18s] OK * checking Rd files ... [1s/1s] OK * checking Rd metadata ... OK * checking Rd line widths ... OK * checking Rd cross-references ... OK * checking for missing documentation entries ... OK * checking for code/documentation mismatches ... OK * checking Rd \usage sections ... OK * checking Rd contents ... OK * checking for unstated dependencies in examples ... OK * checking examples ... [276s/325s] OK Examples with CPU (user + system) or elapsed time > 5s user system elapsed ANR-F 7.921 0.332 8.158 Alcalaetal-A 6.028 0.347 9.453 Nominal2Binary-TR 6.149 0.117 7.127 ABB-IEP-FS 5.830 0.263 7.874 CART-R 5.573 0.380 6.999 GANN-C 5.455 0.144 6.703 SSGA-Integer-knn-FS 5.109 0.170 6.948 Relief-FS 4.840 0.207 4.997 Proportional-D 4.830 0.142 5.182 UniformFrequency-D 4.769 0.174 5.951 Bayesian-D 4.788 0.151 6.909 CleanAttributes-TR 4.698 0.183 5.630 UniformWidth-D 4.741 0.133 5.855 MostCommon-MV 4.703 0.124 5.410 RISE-C 4.663 0.158 5.336 KMeans-MV 4.689 0.129 6.819 Eclat-A 4.606 0.211 5.788 AllPosible-MV 4.649 0.151 5.132 MinMax-TR 4.649 0.126 5.713 FPgrowth-A 4.613 0.158 5.751 ZScore-TR 4.673 0.077 5.330 ID3-D 4.496 0.210 5.324 FuzzyApriori-A 4.465 0.215 6.023 DecimalScaling-TR 4.522 0.149 5.322 KNN-MV 4.540 0.128 5.814 Apriori-A 4.469 0.176 5.429 Ignore-MV 4.510 0.134 5.566 ART-C 4.458 0.106 5.260 GeneticFuzzyApriori-A 4.359 0.185 5.782 GeneticFuzzyAprioriDC-A 4.235 0.158 5.032 runCV 0.398 0.012 6.580 runSequential 0.111 0.006 5.047 * checking PDF version of manual ... [10s/13s] OK * checking HTML version of manual ... [5s/9s] OK * checking for non-standard things in the check directory ... OK * DONE Status: OK