- using R version 4.5.1 Patched (2025-07-14 r88411)
- using platform: x86_64-pc-linux-gnu
- R was compiled by
gcc-14 (Debian 14.2.0-19) 14.2.0
GNU Fortran (Debian 14.2.0-19) 14.2.0
- running under: Debian GNU/Linux 13 (trixie)
- using session charset: UTF-8
- checking for file ‘MiscMetabar/DESCRIPTION’ ... OK
- checking extension type ... Package
- this is package ‘MiscMetabar’ version ‘0.14.3’
- package encoding: UTF-8
- checking package namespace information ... OK
- checking package dependencies ... OK
- checking if this is a source package ... OK
- checking if there is a namespace ... OK
- checking for executable files ... OK
- checking for hidden files and directories ... OK
- checking for portable file names ... OK
- checking for sufficient/correct file permissions ... OK
- checking whether package ‘MiscMetabar’ can be installed ... OK
See the install log for details.
- checking package directory ... OK
- checking for future file timestamps ... OK
- checking ‘build’ directory ... OK
- checking DESCRIPTION meta-information ... OK
- checking top-level files ... OK
- checking for left-over files ... OK
- checking index information ... OK
- checking package subdirectories ... OK
- checking code files for non-ASCII characters ... OK
- checking R files for syntax errors ... OK
- checking whether the package can be loaded ... [15s/21s] OK
- checking whether the package can be loaded with stated dependencies ... [15s/20s] OK
- checking whether the package can be unloaded cleanly ... [15s/21s] OK
- checking whether the namespace can be loaded with stated dependencies ... [15s/24s] OK
- checking whether the namespace can be unloaded cleanly ... [17s/26s] OK
- checking loading without being on the library search path ... [16s/22s] OK
- checking use of S3 registration ... OK
- checking dependencies in R code ... OK
- checking S3 generic/method consistency ... OK
- checking replacement functions ... OK
- checking foreign function calls ... OK
- checking R code for possible problems ... [84s/106s] OK
- checking Rd files ... [2s/2s] OK
- checking Rd metadata ... OK
- checking Rd line widths ... OK
- checking Rd cross-references ... OK
- checking for missing documentation entries ... OK
- checking for code/documentation mismatches ... OK
- checking Rd \usage sections ... OK
- checking Rd contents ... OK
- checking for unstated dependencies in examples ... OK
- checking contents of ‘data’ directory ... OK
- checking data for non-ASCII characters ... [8s/10s] OK
- checking LazyData ... OK
- checking data for ASCII and uncompressed saves ... OK
- checking installed files from ‘inst/doc’ ... OK
- checking files in ‘vignettes’ ... OK
- checking examples ... [136s/175s] OK
Examples with CPU (user + system) or elapsed time > 5s
user system elapsed
SRS_curve_pq 8.380 0.203 10.761
tbl_sum_taxtable 6.323 0.028 8.815
ggscatt_pq 5.660 0.032 7.192
LCBD_pq 5.352 0.245 7.674
psmelt_samples_pq 5.492 0.046 7.592
subset_taxa_tax_control 5.156 0.084 6.569
plot_refseq_extremity_pq 5.081 0.027 7.002
tbl_sum_samdata 4.730 0.007 6.765
plot_complexity_pq 4.540 0.000 6.171
summary_plot_pq 4.284 0.085 5.702
sankey_pq 4.168 0.016 5.245
no_legend 3.936 0.004 5.071
- checking for unstated dependencies in ‘tests’ ... OK
- checking tests ... [112s/70s] OK
Running ‘spelling.R’ [0s/0s]
Running ‘testthat.R’ [112s/69s]
- checking for unstated dependencies in vignettes ... OK
- checking package vignettes ... OK
- checking re-building of vignette outputs ... [25s/30s] OK
- checking PDF version of manual ... [12s/15s] OK
- checking HTML version of manual ... [6s/11s] OK
- checking for non-standard things in the check directory ... OK
- DONE
Status: OK