- using R version 4.3.1 Patched (2023-09-15 r85165)
- using platform: x86_64-pc-linux-gnu (64-bit)
- R was compiled by
gcc-12 (Debian 12.3.0-9) 12.3.0
GNU Fortran (Debian 12.3.0-9) 12.3.0
- running under: Debian GNU/Linux trixie/sid
- using session charset: UTF-8
- checking for file ‘HH/DESCRIPTION’ ... OK
- checking extension type ... Package
- this is package ‘HH’ version ‘3.1-49’
- checking package namespace information ... OK
- checking package dependencies ... OK
- checking if this is a source package ... OK
- checking if there is a namespace ... OK
- checking for executable files ... OK
- checking for hidden files and directories ... OK
- checking for portable file names ... OK
- checking for sufficient/correct file permissions ... OK
- checking serialization versions ... OK
- checking whether package ‘HH’ can be installed ... OK
See the install log for details.
- checking package directory ... OK
- checking for future file timestamps ... OK
- checking DESCRIPTION meta-information ... OK
- checking top-level files ... OK
- checking for left-over files ... OK
- checking index information ... OK
- checking package subdirectories ... OK
- checking R files for non-ASCII characters ... OK
- checking R files for syntax errors ... OK
- checking whether the package can be loaded ... [5s/7s] OK
- checking whether the package can be loaded with stated dependencies ... [5s/6s] OK
- checking whether the package can be unloaded cleanly ... [5s/6s] OK
- checking whether the namespace can be loaded with stated dependencies ... [5s/6s] OK
- checking whether the namespace can be unloaded cleanly ... [5s/7s] OK
- checking loading without being on the library search path ... [5s/6s] OK
- checking startup messages can be suppressed ... [5s/6s] OK
- checking use of S3 registration ... OK
- checking dependencies in R code ... OK
- checking S3 generic/method consistency ... OK
- checking replacement functions ... OK
- checking foreign function calls ... OK
- checking R code for possible problems ... [84s/98s] OK
- checking Rd files ... [4s/5s] OK
- checking Rd metadata ... OK
- checking Rd line widths ... OK
- checking Rd cross-references ... OK
- checking for missing documentation entries ... OK
- checking for code/documentation mismatches ... OK
- checking Rd \usage sections ... NOTE
S3 methods shown with full name in documentation object 'defunct':
‘anova.mean’ ‘print.glht.mmc.multicomp’ ‘coef.arima.HH’ ‘glht.mmc’
‘plot.odds.ratio’ ‘persp.plane’ ‘persp.floor’ ‘persp.back.wall.x’
‘persp.back.wall.y’ ‘persp.setup’ ‘plot.hov’ ‘plot.hov.bf’
‘plot.matchMMC’ ‘seqplot.forecast’
The \usage entries for S3 methods should use the \method markup and not
their full name.
See chapter ‘Writing R documentation files’ in the ‘Writing R
Extensions’ manual.
- checking Rd contents ... OK
- checking for unstated dependencies in examples ... OK
- checking contents of ‘data’ directory ... OK
- checking data for non-ASCII characters ... [1s/1s] OK
- checking data for ASCII and uncompressed saves ... OK
- checking examples ... [72s/85s] OK
Examples with CPU (user + system) or elapsed time > 5s
user system elapsed
mmc 7.489 0.04 8.191
- checking PDF version of manual ... [22s/29s] OK
- checking HTML version of manual ... [12s/21s] OK
- checking for non-standard things in the check directory ... OK
- DONE
Status: 1 NOTE