- using R version 4.3.1 Patched (2023-09-22 r85222)
- using platform: x86_64-pc-linux-gnu (64-bit)
- R was compiled by
gcc-12 (Debian 12.3.0-9) 12.3.0
GNU Fortran (Debian 12.3.0-9) 12.3.0
- running under: Debian GNU/Linux trixie/sid
- using session charset: UTF-8
- checking for file ‘FLightR/DESCRIPTION’ ... OK
- checking extension type ... Package
- this is package ‘FLightR’ version ‘0.5.3’
- checking package namespace information ... OK
- checking package dependencies ... OK
- checking if this is a source package ... OK
- checking if there is a namespace ... OK
- checking for executable files ... OK
- checking for hidden files and directories ... OK
- checking for portable file names ... OK
- checking for sufficient/correct file permissions ... OK
- checking serialization versions ... OK
- checking whether package ‘FLightR’ can be installed ... OK
See the install log for details.
- checking package directory ... OK
- checking for future file timestamps ... OK
- checking ‘build’ directory ... OK
- checking DESCRIPTION meta-information ... OK
- checking top-level files ... OK
- checking for left-over files ... OK
- checking index information ... OK
- checking package subdirectories ... OK
- checking R files for non-ASCII characters ... OK
- checking R files for syntax errors ... OK
- checking whether the package can be loaded ... [0s/1s] OK
- checking whether the package can be loaded with stated dependencies ... [0s/0s] OK
- checking whether the package can be unloaded cleanly ... [0s/0s] OK
- checking whether the namespace can be loaded with stated dependencies ... [0s/0s] OK
- checking whether the namespace can be unloaded cleanly ... [0s/0s] OK
- checking loading without being on the library search path ... [0s/0s] OK
- checking startup messages can be suppressed ... [0s/0s] OK
- checking use of S3 registration ... OK
- checking dependencies in R code ... OK
- checking S3 generic/method consistency ... OK
- checking replacement functions ... OK
- checking foreign function calls ... OK
- checking R code for possible problems ... [22s/26s] OK
- checking Rd files ... [1s/1s] OK
- checking Rd metadata ... OK
- checking Rd line widths ... OK
- checking Rd cross-references ... OK
- checking for missing documentation entries ... OK
- checking for code/documentation mismatches ... OK
- checking Rd \usage sections ... OK
- checking Rd contents ... OK
- checking for unstated dependencies in examples ... OK
- checking R/sysdata.rda ... OK
- checking installed files from ‘inst/doc’ ... OK
- checking files in ‘vignettes’ ... OK
- checking examples ... [42s/69s] OK
Examples with CPU (user + system) or elapsed time > 5s
user system elapsed
plot_util_distr 5.576 0.101 6.812
stationary.migration.summary 4.849 0.140 5.108
plot_likelihood 4.561 0.167 10.798
map.FLightR.ggmap 4.148 0.397 8.450
plot_lon_lat 4.330 0.101 8.980
run.particle.filter 4.157 0.044 8.973
make.prerun.object 3.929 0.103 8.951
- checking for unstated dependencies in ‘tests’ ... OK
- checking tests ... [153s/192s] OK
Running ‘testthat.R’ [153s/191s]
- checking for unstated dependencies in vignettes ... OK
- checking package vignettes in ‘inst/doc’ ... OK
- checking re-building of vignette outputs ... [2s/4s] OK
- checking PDF version of manual ... [7s/13s] OK
- checking HTML version of manual ... [1s/2s] OK
- checking for non-standard things in the check directory ... OK
- DONE
Status: OK