* using log directory ‘/home/hornik/tmp/R.check/r-patched-gcc/Work/PKGS/DImodelsVis.Rcheck’ * using R version 4.5.1 Patched (2025-07-14 r88410) * using platform: x86_64-pc-linux-gnu * R was compiled by gcc-14 (Debian 14.2.0-19) 14.2.0 GNU Fortran (Debian 14.2.0-19) 14.2.0 * running under: Debian GNU/Linux 13 (trixie) * using session charset: UTF-8 * checking for file ‘DImodelsVis/DESCRIPTION’ ... OK * this is package ‘DImodelsVis’ version ‘1.0.1’ * package encoding: UTF-8 * checking package namespace information ... OK * checking package dependencies ... OK * checking if this is a source package ... OK * checking if there is a namespace ... OK * checking for executable files ... OK * checking for hidden files and directories ... OK * checking for portable file names ... OK * checking for sufficient/correct file permissions ... OK * checking serialization versions ... OK * checking whether package ‘DImodelsVis’ can be installed ... OK See 'https://www.r-project.org/nosvn/R.check/r-patched-linux-x86_64/DImodelsVis-00install.html' for details. * checking package directory ... OK * checking for future file timestamps ... OK * checking ‘build’ directory ... OK * checking DESCRIPTION meta-information ... OK * checking top-level files ... OK * checking for left-over files ... OK * checking index information ... OK * checking package subdirectories ... OK * checking code files for non-ASCII characters ... OK * checking R files for syntax errors ... OK * checking whether the package can be loaded ... [2s/3s] OK * checking whether the package can be loaded with stated dependencies ... [2s/2s] OK * checking whether the package can be unloaded cleanly ... [2s/2s] OK * checking whether the namespace can be loaded with stated dependencies ... [2s/2s] OK * checking whether the namespace can be unloaded cleanly ... [2s/3s] OK * checking loading without being on the library search path ... [2s/3s] OK * checking use of S3 registration ... OK * checking dependencies in R code ... OK * checking S3 generic/method consistency ... OK * checking replacement functions ... OK * checking foreign function calls ... OK * checking R code for possible problems ... [21s/28s] OK * checking Rd files ... [1s/1s] OK * checking Rd metadata ... OK * checking Rd line widths ... OK * checking Rd cross-references ... OK * checking for missing documentation entries ... OK * checking for code/documentation mismatches ... OK * checking Rd \usage sections ... OK * checking Rd contents ... OK * checking for unstated dependencies in examples ... OK * checking installed files from ‘inst/doc’ ... OK * checking files in ‘vignettes’ ... OK * checking examples ... [102s/131s] OK Examples with CPU (user + system) or elapsed time > 5s user system elapsed simplex_path 6.746 0.251 8.212 grouped_ternary 6.131 0.156 8.003 conditional_ternary 6.058 0.172 8.415 model_diagnostics 6.042 0.141 8.590 visualise_effects 5.710 0.056 7.773 ternary_data 4.349 1.397 6.927 simplex_path_data 5.454 0.111 6.731 DImodelsVis-package 5.163 0.234 7.180 gradient_change_plot 5.188 0.205 7.180 simplex_path_plot 5.095 0.086 7.099 model_selection 4.911 0.226 7.043 grouped_ternary_plot 4.932 0.131 6.082 conditional_ternary_plot 4.644 0.047 5.524 prediction_contributions 4.008 0.231 5.840 visualise_effects_plot 3.776 0.054 5.046 * checking for unstated dependencies in ‘tests’ ... OK * checking tests ... [1s/1s] OK Running ‘spelling.R’ [0s/0s] * checking for unstated dependencies in vignettes ... OK * checking package vignettes ... OK * checking re-building of vignette outputs ... [70s/92s] OK * checking PDF version of manual ... [9s/12s] OK * checking HTML version of manual ... [3s/5s] OK * checking for non-standard things in the check directory ... OK * DONE Status: OK