- using R version 4.5.2 RC (2025-10-27 r88972)
- using platform: x86_64-pc-linux-gnu
- R was compiled by
    gcc-14 (Debian 14.3.0-8) 14.3.0
    GNU Fortran (Debian 14.3.0-8) 14.3.0
- running under: Debian GNU/Linux forky/sid
- using session charset: UTF-8
- checking for file ‘DImodelsVis/DESCRIPTION’ ... OK
- this is package ‘DImodelsVis’ version ‘1.0.4’
- package encoding: UTF-8
- checking package namespace information ... OK
- checking package dependencies ... OK
- checking if this is a source package ... OK
- checking if there is a namespace ... OK
- checking for executable files ... OK
- checking for hidden files and directories ... OK
- checking for portable file names ... OK
- checking for sufficient/correct file permissions ... OK
- checking serialization versions ... OK
- checking whether package ‘DImodelsVis’ can be installed ... OK
See the install log for details.
- checking package directory ... OK
- checking for future file timestamps ... OK
- checking ‘build’ directory ... OK
- checking DESCRIPTION meta-information ... OK
- checking top-level files ... OK
- checking for left-over files ... OK
- checking index information ... OK
- checking package subdirectories ... OK
- checking code files for non-ASCII characters ... OK
- checking R files for syntax errors ... OK
- checking whether the package can be loaded ... [4s/5s] OK
- checking whether the package can be loaded with stated dependencies ... [4s/4s] OK
- checking whether the package can be unloaded cleanly ... [4s/5s] OK
- checking whether the namespace can be loaded with stated dependencies ... [3s/4s] OK
- checking whether the namespace can be unloaded cleanly ... [4s/5s] OK
- checking loading without being on the library search path ... [4s/5s] OK
- checking use of S3 registration ... OK
- checking dependencies in R code ... OK
- checking S3 generic/method consistency ... OK
- checking replacement functions ... OK
- checking foreign function calls ... OK
- checking R code for possible problems ... [29s/38s] OK
- checking Rd files ... [1s/1s] OK
- checking Rd metadata ... OK
- checking Rd line widths ... OK
- checking Rd cross-references ... OK
- checking for missing documentation entries ... OK
- checking for code/documentation mismatches ... OK
- checking Rd \usage sections ... OK
- checking Rd contents ... OK
- checking for unstated dependencies in examples ... OK
- checking installed files from ‘inst/doc’ ... OK
- checking files in ‘vignettes’ ... OK
- checking examples ... [119s/162s] OK
Examples with CPU (user + system) or elapsed time > 5s
                               user system elapsed
model_diagnostics_plot        9.672  0.073  12.962
model_diagnostics             7.861  0.083  11.369
simplex_path                  7.647  0.039  10.995
visualise_effects             6.900  0.091   7.648
simplex_path_plot             6.413  0.039   9.391
gradient_change_plot          6.307  0.112   8.673
model_selection               6.149  0.004   8.252
prediction_contributions      5.605  0.000   7.992
simplex_path_data             5.362  0.090   8.356
DImodelsVis-package           4.820  0.207   6.584
ternary_data                  3.985  0.993   6.982
gradient_change               4.626  0.076   7.301
grouped_ternary               4.459  0.051   5.922
visualise_effects_plot        4.197  0.028   5.295
conditional_ternary           3.981  0.203   6.150
prediction_contributions_plot 3.888  0.003   5.530
- checking for unstated dependencies in ‘tests’ ... OK
- checking tests ... [57s/69s] OK
  Running ‘spelling.R’ [0s/0s]
  Running ‘testthat.R’ [56s/68s]
- checking for unstated dependencies in vignettes ... OK
- checking package vignettes ... OK
- checking re-building of vignette outputs ... [153s/188s] OK
- checking PDF version of manual ... [12s/17s] OK
- checking HTML version of manual ... [3s/5s] OK
- checking for non-standard things in the check directory ... OK
- DONE
Status: OK