- using R version 4.5.1 Patched (2025-07-14 r88410)
- using platform: x86_64-pc-linux-gnu
- R was compiled by
gcc-14 (Debian 14.2.0-19) 14.2.0
GNU Fortran (Debian 14.2.0-19) 14.2.0
- running under: Debian GNU/Linux 13 (trixie)
- using session charset: UTF-8
- checking for file ‘BayesCVI/DESCRIPTION’ ... OK
- checking extension type ... Package
- this is package ‘BayesCVI’ version ‘1.0.2’
- package encoding: UTF-8
- checking package namespace information ... OK
- checking package dependencies ... OK
- checking if this is a source package ... OK
- checking if there is a namespace ... OK
- checking for executable files ... OK
- checking for hidden files and directories ... OK
- checking for portable file names ... OK
- checking for sufficient/correct file permissions ... OK
- checking serialization versions ... OK
- checking whether package ‘BayesCVI’ can be installed ... OK
See the install log for details.
- checking package directory ... OK
- checking for future file timestamps ... OK
- checking DESCRIPTION meta-information ... OK
- checking top-level files ... OK
- checking for left-over files ... OK
- checking index information ... OK
- checking package subdirectories ... OK
- checking code files for non-ASCII characters ... OK
- checking R files for syntax errors ... OK
- checking whether the package can be loaded ... [1s/2s] OK
- checking whether the package can be loaded with stated dependencies ... [1s/1s] OK
- checking whether the package can be unloaded cleanly ... [1s/2s] OK
- checking whether the namespace can be loaded with stated dependencies ... [1s/2s] OK
- checking whether the namespace can be unloaded cleanly ... [1s/2s] OK
- checking loading without being on the library search path ... [1s/2s] OK
- checking use of S3 registration ... OK
- checking dependencies in R code ... OK
- checking S3 generic/method consistency ... OK
- checking replacement functions ... OK
- checking foreign function calls ... OK
- checking R code for possible problems ... [15s/21s] OK
- checking Rd files ... [1s/1s] OK
- checking Rd metadata ... OK
- checking Rd line widths ... OK
- checking Rd cross-references ... OK
- checking for missing documentation entries ... OK
- checking for code/documentation mismatches ... OK
- checking Rd \usage sections ... OK
- checking Rd contents ... OK
- checking for unstated dependencies in examples ... OK
- checking contents of ‘data’ directory ... OK
- checking data for non-ASCII characters ... [0s/0s] OK
- checking LazyData ... OK
- checking data for ASCII and uncompressed saves ... OK
- checking examples ... [112s/150s] OK
Examples with CPU (user + system) or elapsed time > 5s
user system elapsed
B_GC.IDX 9.599 0.067 11.830
B_WP.IDX 9.354 0.039 13.203
plot_BCVI 8.710 0.024 14.363
B_CCV.IDX 8.040 0.106 10.388
B_KWON.IDX 7.753 0.027 9.637
B_XB.IDX 7.748 0.019 9.763
B_KWON2.IDX 7.678 0.047 9.580
B_TANG.IDX 7.656 0.000 10.191
B_PBM.IDX 7.630 0.020 10.895
B_WL.IDX 7.628 0.020 10.172
B_KPBM.IDX 7.542 0.024 9.735
B_HF.IDX 7.489 0.004 9.344
BayesCVIs 4.127 0.000 6.371
- checking PDF version of manual ... [6s/9s] OK
- checking HTML version of manual ... [3s/5s] OK
- checking for non-standard things in the check directory ... OK
- DONE
Status: OK