- using R version 4.3.1 Patched (2023-09-22 r85222)
- using platform: x86_64-pc-linux-gnu (64-bit)
- R was compiled by
gcc-12 (Debian 12.3.0-9) 12.3.0
GNU Fortran (Debian 12.3.0-9) 12.3.0
- running under: Debian GNU/Linux trixie/sid
- using session charset: UTF-8
- checking for file ‘BNPdensity/DESCRIPTION’ ... OK
- checking extension type ... Package
- this is package ‘BNPdensity’ version ‘2023.3.8’
- package encoding: UTF-8
- checking package namespace information ... OK
- checking package dependencies ... OK
- checking if this is a source package ... OK
- checking if there is a namespace ... OK
- checking for executable files ... OK
- checking for hidden files and directories ... OK
- checking for portable file names ... OK
- checking for sufficient/correct file permissions ... OK
- checking whether package ‘BNPdensity’ can be installed ... OK
See the install log for details.
- checking package directory ... OK
- checking for future file timestamps ... OK
- checking DESCRIPTION meta-information ... OK
- checking top-level files ... OK
- checking for left-over files ... OK
- checking index information ... OK
- checking package subdirectories ... OK
- checking R files for non-ASCII characters ... OK
- checking R files for syntax errors ... OK
- checking whether the package can be loaded ... [2s/2s] OK
- checking whether the package can be loaded with stated dependencies ... [1s/1s] OK
- checking whether the package can be unloaded cleanly ... [1s/1s] OK
- checking whether the namespace can be loaded with stated dependencies ... [1s/2s] OK
- checking whether the namespace can be unloaded cleanly ... [2s/2s] OK
- checking loading without being on the library search path ... [2s/2s] OK
- checking use of S3 registration ... OK
- checking dependencies in R code ... OK
- checking S3 generic/method consistency ... OK
- checking replacement functions ... OK
- checking foreign function calls ... OK
- checking R code for possible problems ... [22s/26s] OK
- checking Rd files ... [1s/2s] OK
- checking Rd metadata ... OK
- checking Rd line widths ... OK
- checking Rd cross-references ... OK
- checking for missing documentation entries ... OK
- checking for code/documentation mismatches ... OK
- checking Rd \usage sections ... OK
- checking Rd contents ... OK
- checking for unstated dependencies in examples ... OK
- checking contents of ‘data’ directory ... OK
- checking data for non-ASCII characters ... [1s/1s] OK
- checking LazyData ... OK
- checking data for ASCII and uncompressed saves ... OK
- checking R/sysdata.rda ... OK
- checking examples ... [107s/114s] OK
Examples with CPU (user + system) or elapsed time > 5s
user system elapsed
GOFplots 7.100 0.211 8.780
plot.NRMI2 5.801 0.247 6.729
GOFplots_censored 5.390 0.135 5.908
GOFplots_noncensored 5.314 0.095 6.601
plot.NRMI1 4.951 0.317 5.731
summary.NRMI2 4.973 0.060 5.034
print.NRMI2 4.964 0.017 5.042
plotPDF_noncensored 4.780 0.111 5.703
plotCDF_censored 4.498 0.092 5.958
print.NRMI1 4.348 0.055 5.285
Examples with CPU time > 2.5 times elapsed time
user system elapsed ratio
pk 0.838 0.174 0.027 37.481
- checking PDF version of manual ... [10s/10s] OK
- checking HTML version of manual ... [4s/4s] OK
- checking for non-standard things in the check directory ... OK
- DONE
Status: OK