- using R version 4.4.3 (2025-02-28 ucrt)
 
- using platform: x86_64-w64-mingw32
 
- R was compiled by
    gcc.exe (GCC) 13.3.0
    GNU Fortran (GCC) 13.3.0
 
- running under: Windows Server 2022 x64 (build 20348)
 
- using session charset: UTF-8
 
- checking for file 'tsDyn/DESCRIPTION' ... OK
 
- checking extension type ... Package
 
- this is package 'tsDyn' version '11.0.5.2'
 
- package encoding: UTF-8
 
- checking package namespace information ... OK
 
- checking package dependencies ... OK
 
- checking if this is a source package ... OK
 
- checking if there is a namespace ... OK
 
- checking for hidden files and directories ... OK
 
- checking for portable file names ... OK
 
- checking whether package 'tsDyn' can be installed ... OK
See the install log for details.
 
- used C compiler: 'gcc.exe (GCC) 13.3.0'
 
- checking installed package size ... OK
 
- checking package directory ... OK
 
- checking 'build' directory ... OK
 
- checking DESCRIPTION meta-information ... OK
 
- checking top-level files ... OK
 
- checking for left-over files ... OK
 
- checking index information ... OK
 
- checking package subdirectories ... OK
 
- checking code files for non-ASCII characters ... OK
 
- checking R files for syntax errors ... OK
 
- checking whether the package can be loaded ... [5s] OK
 
- checking whether the package can be loaded with stated dependencies ... [4s] OK
 
- checking whether the package can be unloaded cleanly ... [4s] OK
 
- checking whether the namespace can be loaded with stated dependencies ... [4s] OK
 
- checking whether the namespace can be unloaded cleanly ... [5s] OK
 
- checking loading without being on the library search path ... [4s] OK
 
- checking whether startup messages can be suppressed ... [5s] OK
 
- checking use of S3 registration ... OK
 
- checking dependencies in R code ... OK
 
- checking S3 generic/method consistency ... OK
 
- checking replacement functions ... OK
 
- checking foreign function calls ... OK
 
- checking R code for possible problems ... [48s] OK
 
- checking Rd files ... [2s] OK
 
- checking Rd metadata ... OK
 
- checking Rd cross-references ... OK
 
- checking for missing documentation entries ... OK
 
- checking for code/documentation mismatches ... OK
 
- checking Rd \usage sections ... OK
 
- checking Rd contents ... OK
 
- checking for unstated dependencies in examples ... OK
 
- checking contents of 'data' directory ... OK
 
- checking data for non-ASCII characters ... [0s] OK
 
- checking LazyData ... OK
 
- checking data for ASCII and uncompressed saves ... OK
 
- checking line endings in C/C++/Fortran sources/headers ... OK
 
- checking pragmas in C/C++ headers and code ... OK
 
- checking compiled code ... OK
 
- checking sizes of PDF files under 'inst/doc' ... OK
 
- checking installed files from 'inst/doc' ... OK
 
- checking files in 'vignettes' ... OK
 
- checking examples ... [60s] OK
 
- checking for unstated dependencies in 'tests' ... OK
 
- checking tests ... [264s] OK
  Running '00SetarAndFriends.R' [6s]
  Comparing '00SetarAndFriends.Rout' to '00SetarAndFriends.Rout.save' ... OK
  Running 'GIRF_TEST.R' [26s]
  Comparing 'GIRF_TEST.Rout' to 'GIRF_TEST.Rout.save' ... OK
  Running 'TVAR_TEST.R' [16s]
  Comparing 'TVAR_TEST.Rout' to 'TVAR_TEST.Rout.save' ... OK
  Running 'TVECM.sim.R' [7s]
  Comparing 'TVECM.sim.Rout' to 'TVECM.sim.Rout.save' ... OK
  Running 'TVECM_HSTEST.R' [7s]
  Comparing 'TVECM_HSTEST.Rout' to 'TVECM_HSTEST.Rout.save' ... OK
  Running 'VAR_TEST.R' [7s]
  Comparing 'VAR_TEST.Rout' to 'VAR_TEST.Rout.save' ... OK
  Running 'VECM_TEST.R' [11s]
  Comparing 'VECM_TEST.Rout' to 'VECM_TEST.Rout.save' ... OK
  Running 'compare_tsDyn_vars.R' [8s]
  Comparing 'compare_tsDyn_vars.Rout' to 'compare_tsDyn_vars.Rout.save' ... OK
  Running 'irf_nlVAR_TEST.R' [41s]
  Comparing 'irf_nlVAR_TEST.Rout' to 'irf_nlVAR_TEST.Rout.save' ... OK
  Running 'irf_nlar_TEST.R' [21s]
  Comparing 'irf_nlar_TEST.Rout' to 'irf_nlar_TEST.Rout.save' ... OK
  Running 'linear_TEST.R' [4s]
  Comparing 'linear_TEST.Rout' to 'linear_TEST.Rout.save' ... OK
  Running 'lstar_TEST.R' [12s]
  Running 'nlar-methods_TEST.R' [23s]
  Comparing 'nlar-methods_TEST.Rout' to 'nlar-methods_TEST.Rout.save' ... OK
  Running 'regime.R' [7s]
  Comparing 'regime.Rout' to 'regime.Rout.save' ... OK
  Running 'setar.sim_TEST.R' [6s]
  Comparing 'setar.sim_TEST.Rout' to 'setar.sim_TEST.Rout.save' ... OK
  Running 'setarTest_test.R' [13s]
  Comparing 'setarTest_test.Rout' to 'setarTest_test.Rout.save' ... OK
  Running 'testthat.R' [34s]
  Running 'toMlm.R' [5s]
  Comparing 'toMlm.Rout' to 'toMlm.Rout.save' ... OK
  Running 'univ_ar_mean.R' [5s]
  Comparing 'univ_ar_mean.Rout' to 'univ_ar_mean.Rout.save' ... OK
 
- checking for unstated dependencies in vignettes ... OK
 
- checking package vignettes ... OK
 
- checking re-building of vignette outputs ... [60s] OK
 
- checking PDF version of manual ... [23s] OK
 
- checking HTML version of manual ... [16s] OK
 
- DONE
 
Status: OK