- using R version 4.4.3 (2025-02-28 ucrt)
- using platform: x86_64-w64-mingw32
- R was compiled by
gcc.exe (GCC) 13.3.0
GNU Fortran (GCC) 13.3.0
- running under: Windows Server 2022 x64 (build 20348)
- using session charset: UTF-8
- checking for file 'future/DESCRIPTION' ... OK
- this is package 'future' version '1.58.0'
- package encoding: UTF-8
- checking package namespace information ... OK
- checking package dependencies ... OK
- checking if this is a source package ... OK
- checking if there is a namespace ... OK
- checking for hidden files and directories ... OK
- checking for portable file names ... OK
- checking whether package 'future' can be installed ... OK
See the install log for details.
- checking installed package size ... OK
- checking package directory ... OK
- checking 'build' directory ... OK
- checking DESCRIPTION meta-information ... OK
- checking top-level files ... OK
- checking for left-over files ... OK
- checking index information ... OK
- checking package subdirectories ... OK
- checking code files for non-ASCII characters ... OK
- checking R files for syntax errors ... OK
- checking whether the package can be loaded ... [1s] OK
- checking whether the package can be loaded with stated dependencies ... [0s] OK
- checking whether the package can be unloaded cleanly ... [0s] OK
- checking whether the namespace can be loaded with stated dependencies ... [0s] OK
- checking whether the namespace can be unloaded cleanly ... [1s] OK
- checking loading without being on the library search path ... [1s] OK
- checking whether startup messages can be suppressed ... [1s] OK
- checking use of S3 registration ... OK
- checking dependencies in R code ... OK
- checking S3 generic/method consistency ... OK
- checking replacement functions ... OK
- checking foreign function calls ... OK
- checking R code for possible problems ... [28s] OK
- checking Rd files ... [2s] OK
- checking Rd metadata ... OK
- checking Rd cross-references ... OK
- checking for missing documentation entries ... OK
- checking for code/documentation mismatches ... OK
- checking Rd \usage sections ... OK
- checking Rd contents ... OK
- checking for unstated dependencies in examples ... OK
- checking installed files from 'inst/doc' ... OK
- checking files in 'vignettes' ... OK
- checking examples ... [13s] OK
- checking for unstated dependencies in 'tests' ... OK
- checking tests ... [364s] OK
Running 'test-000.R' [1s]
Running 'test-FutureError.R' [1s]
Running 'test-FutureGlobals.R' [1s]
Running 'test-FutureRegistry.R' [2s]
Running 'test-adhoc_native_to_utf8.R' [1s]
Running 'test-backtrace.R' [5s]
Running 'test-bquote.R' [1s]
Running 'test-cancel.R' [12s]
Running 'test-capture_journals.R' [3s]
Running 'test-cluster,worker-termination.R' [3s]
Running 'test-cluster-connection-clashes.R' [4s]
Running 'test-cluster-missing-future-pkg.R' [2s]
Running 'test-demo-fibonacci.R' [7s]
Running 'test-demo-mandelbrot.R' [5s]
Running 'test-dotdotdot.R' [5s]
Running 'test-early-signaling.R' [1s]
Running 'test-error_on_warn_2.R' [3s]
Running 'test-future,labels.R' [4s]
Running 'test-future,optsenvvars.R' [3s]
Running 'test-future.R' [2s]
Running 'test-futureAssign.R' [6s]
Running 'test-futureAssign_OP.R' [8s]
Running 'test-futureAssign_OP_with_environment.R' [1s]
Running 'test-futureAssign_OP_with_listenv.R' [2s]
Running 'test-futureCall.R' [6s]
Running 'test-futureOf.R' [1s]
Running 'test-futureOf_with_environment.R' [1s]
Running 'test-futureOf_with_listenv.R' [1s]
Running 'test-futureSessionInfo.R' [2s]
Running 'test-futures.R' [20s]
Running 'test-globals,NSE.R' [4s]
Running 'test-globals,S4methods.R' [3s]
Running 'test-globals,formulas.R' [9s]
Running 'test-globals,locals.R' [4s]
Running 'test-globals,manual.R' [8s]
Running 'test-globals,packages.R' [3s]
Running 'test-globals,resolve.R' [1s]
Running 'test-globals,subassignment.R' [7s]
Running 'test-globals,toolarge.R' [6s]
Running 'test-globals,tricky.R' [8s]
Running 'test-globals,tricky2.R' [3s]
Running 'test-globals,tricky_recursive.R' [3s]
Running 'test-globalsOf,tweaks.R' [1s]
Running 'test-immediateCondition.R' [4s]
Running 'test-interrupts-from-worker-itself.R' [10s]
Running 'test-invalid-owner.R' [4s]
Running 'test-makeClusterFuture.R' [6s]
Running 'test-mandelbrot.R' [1s]
Running 'test-misuse-connections.R' [1s]
Running 'test-mpi.R' [1s]
Running 'test-multicore,multithreading.R' [1s]
Running 'test-multicore,worker-termination.R' [1s]
Running 'test-multisession-libpaths.R' [1s]
Running 'test-nbrOfWorkers.R' [6s]
Running 'test-nested_futures,mc.cores.R' [8s]
Running 'test-nested_futures.R' [8s]
Running 'test-non-exportable,connections.R' [2s]
Running 'test-objectSize.R' [1s]
Running 'test-plan.R' [12s]
Running 'test-relaying,muffle.R' [1s]
Running 'test-relaying,split.R' [1s]
Running 'test-relaying.R' [5s]
Running 'test-requestCore.R' [1s]
Running 'test-requestNode.R' [1s]
Running 'test-reserved-keyword-functions.R' [1s]
Running 'test-reset.R' [3s]
Running 'test-resolve.R' [16s]
Running 'test-resolved-non-blocking-test.R' [1s]
Running 'test-rng.R' [31s]
Running 'test-rng_utils.R' [1s]
Running 'test-sequential.R' [1s]
Running 'test-sessionDetails.R' [1s]
Running 'test-startup-onAttach.R' [1s]
Running 'test-startup-onLoad.R' [15s]
Running 'test-startup-parseCmdArgs.R' [1s]
Running 'test-stdout.R' [6s]
Running 'test-timeouts.R' [3s]
Running 'test-tweak.R' [4s]
Running 'test-utils.R' [1s]
Running 'test-uuid.R' [1s]
Running 'test-value-error-cancels-set.R' [12s]
Running 'test-value.R' [19s]
Running 'test-whichIndex.R' [1s]
- checking for unstated dependencies in vignettes ... OK
- checking package vignettes ... OK
- checking re-building of vignette outputs ... [14s] OK
- checking PDF version of manual ... [22s] OK
- checking HTML version of manual ... [11s] OK
- DONE
Status: OK