- using R version 4.4.3 (2025-02-28 ucrt)
 
- using platform: x86_64-w64-mingw32
 
- R was compiled by
    gcc.exe (GCC) 13.3.0
    GNU Fortran (GCC) 13.3.0
 
- running under: Windows Server 2022 x64 (build 20348)
 
- using session charset: UTF-8
 
- checking for file 'cpr/DESCRIPTION' ... OK
 
- this is package 'cpr' version '0.4.0'
 
- package encoding: UTF-8
 
- checking package namespace information ... OK
 
- checking package dependencies ... OK
 
- checking if this is a source package ... OK
 
- checking if there is a namespace ... OK
 
- checking for hidden files and directories ... OK
 
- checking for portable file names ... OK
 
- checking whether package 'cpr' can be installed ... OK
See the install log for details.
 
- used C++ compiler: 'g++.exe (GCC) 13.3.0'
 
- checking installed package size ... OK
 
- checking package directory ... OK
 
- checking 'build' directory ... OK
 
- checking DESCRIPTION meta-information ... OK
 
- checking top-level files ... OK
 
- checking for left-over files ... OK
 
- checking index information ... OK
 
- checking package subdirectories ... OK
 
- checking code files for non-ASCII characters ... OK
 
- checking R files for syntax errors ... OK
 
- checking whether the package can be loaded ... [1s] OK
 
- checking whether the package can be loaded with stated dependencies ... [0s] OK
 
- checking whether the package can be unloaded cleanly ... [1s] OK
 
- checking whether the namespace can be loaded with stated dependencies ... [1s] OK
 
- checking whether the namespace can be unloaded cleanly ... [1s] OK
 
- checking loading without being on the library search path ... [1s] OK
 
- checking use of S3 registration ... OK
 
- checking dependencies in R code ... OK
 
- checking S3 generic/method consistency ... OK
 
- checking replacement functions ... OK
 
- checking foreign function calls ... OK
 
- checking R code for possible problems ... [8s] OK
 
- checking Rd files ... [1s] OK
 
- checking Rd metadata ... OK
 
- checking Rd cross-references ... OK
 
- checking for missing documentation entries ... OK
 
- checking for code/documentation mismatches ... OK
 
- checking Rd \usage sections ... OK
 
- checking Rd contents ... OK
 
- checking for unstated dependencies in examples ... OK
 
- checking contents of 'data' directory ... OK
 
- checking data for non-ASCII characters ... [0s] OK
 
- checking LazyData ... OK
 
- checking data for ASCII and uncompressed saves ... OK
 
- checking line endings in C/C++/Fortran sources/headers ... OK
 
- checking line endings in Makefiles ... OK
 
- checking compilation flags in Makevars ... OK
 
- checking for GNU extensions in Makefiles ... OK
 
- checking for portable use of $(BLAS_LIBS) and $(LAPACK_LIBS) ... OK
 
- checking use of PKG_*FLAGS in Makefiles ... OK
 
- checking pragmas in C/C++ headers and code ... OK
 
- checking compiled code ... OK
 
- checking installed files from 'inst/doc' ... OK
 
- checking files in 'vignettes' ... OK
 
- checking examples ... [78s] OK
 
- checking for unstated dependencies in 'tests' ... OK
 
- checking tests ... [163s] OK
  Running 'test-bsplineD.R' [1s]
  Running 'test-bsplines.R' [1s]
  Running 'test-btensor.R' [2s]
  Running 'test-build_tensor.R' [1s]
  Running 'test-cn.R' [12s]
  Running 'test-cnr.R' [8s]
  Running 'test-coef_vcov.R' [3s]
  Running 'test-cp.R' [49s]
  Running 'test-cp_diff.R' [1s]
  Running 'test-cp_value.R' [1s]
  Running 'test-cpr.R' [3s]
  Running 'test-datasets.R' [1s]
  Running 'test-generate_cp_formula_data.R' [1s]
  Running 'test-get_spline.R' [6s]
  Running 'test-get_surface.R' [0s]
  Running 'test-iknots_or_df.R' [1s]
  Running 'test-influence_of_iknots.R' [3s]
  Running 'test-insert_a_knot.R' [1s]
  Running 'test-knot_expr.R' [1s]
  Running 'test-loglikelihood.R' [4s]
  Running 'test-matrix_rank.R' [2s]
  Running 'test-modify-formula-and-data.R' [1s]
  Running 'test-newknots.R' [3s]
  Running 'test-order_statistics.R' [1s]
  Running 'test-plot.cpr_bs.R' [0s]
  Running 'test-plot.cpr_cn.R' [0s]
  Running 'test-plot.cpr_cnr.R' [0s]
  Running 'test-plot.cpr_cp.R' [0s]
  Running 'test-plot.cpr_cpr.R' [0s]
  Running 'test-predict.R' [17s]
  Running 'test-recover-known-spline.R' [9s]
  Running 'test-summary.cpr_cn.R' [1s]
  Running 'test-summary.cpr_cnr.R' [8s]
  Running 'test-summary.cpr_cp.R' [8s]
  Running 'test-summary.cpr_cpr.R' [3s]
  Running 'test-trimmed_quantile.R' [1s]
  Running 'test-update_bsplines.R' [11s]
  Running 'test-wiggle.R' [1s]
 
- checking for unstated dependencies in vignettes ... OK
 
- checking package vignettes ... OK
 
- checking re-building of vignette outputs ... [146s] OK
 
- checking PDF version of manual ... [19s] OK
 
- checking HTML version of manual ... [9s] OK
 
- DONE
 
Status: OK